{"text_format":"1","workbook":"xlsx","n_sheets":16,"sheets":["Start","Pivot","Final","Consolidated ECP","Consolidated","PY2024 Facilty ECPs","PY2023 Facilty ECPs","PY2024 Individual ECPs","PY2023 Individual ECPs","PY2024 Facilities&Pharmacies","PY2023 Facilities&Pharmacies","PY2024 IndividualProviders","PY2023 IndividualProviders","Specialty Codes","DOI","YOY"],"not_rendered":{"charts":0,"images":0,"macros":1,"external_links":0,"defined_names":4,"comments":0,"pivot_tables":1},"unopened":[],"bounds":{"document_bytes":16777216,"sheet_cells":100000,"rows_first":2000,"rows_last":500,"rows_between":2000,"halvings":0,"cell_chars":16384,"cell_head_chars":4096},"cells_cut":0,"cells_raw":0,"read":"whole","date_system":"1900"}

{"sheet":"Start","index":0,"n_rows":43,"n_cols":8,"rows_kept":43,"cut":false,"hidden":false,"merged":[[5,3,5,4],[9,3,9,4],[11,3,11,4],[32,2,33,9],[15,3,15,4],[42,2,45,9],[17,3,17,4],[19,3,19,4],[21,3,21,4],[23,3,23,4],[29,1,29,8],[34,2,35,9],[36,2,38,9],[0,0,2,9],[3,3,3,8],[25,7,25,8],[27,7,27,8],[7,1,7,8],[25,3,25,4],[27,3,27,4],[9,7,9,8],[11,7,11,8],[13,7,13,8],[15,7,15,8],[17,7,17,8],[19,7,19,8],[21,7,21,8],[23,7,23,8],[13,3,13,4]]}
[{"$f":"\"Plan Year \"&'Specialty Codes'!C2&\" Year over Year Network Analysis v1.0\"","v":"Plan Year 2024 Year over Year Network Analysis v1.0"}]
[]
[]
[null,null,"Company: "]
[null,"Part 1: Year over Year Network Analysis Data Sheets\nEnter the information below and additional instructions will appear."]
[null,null,"Market Type: ",null,null,null,null,"Number of Networks: "]
[]
[null,"1) Enter the Network ID and the Service Area for each network. For the service area choose the counties within the service area. If only certain zip codes are included with in the county just select the entire county."]
[]
[null,null," 1) Network ID: ",null,null,null,"Service Area: "]
[]
[null,null," 2) Network ID: ",null,null,null,"Service Area: "]
[]
[null,null," 3) Network ID: ",null,null,null,"Service Area: "]
[]
[null,null," 4) Network ID: ",null,null,null,"Service Area: "]
[]
[null,null," 5) Network ID: ",null,null,null,"Service Area: "]
[]
[null,null," 6) Network ID: ",null,null,null,"Service Area: "]
[]
[null,null," 7) Network ID: ",null,null,null,"Service Area: "]
[]
[null,null," 8) Network ID: ",null,null,null,"Service Area: "]
[]
[null,null," 9) Network ID: ",null,null,null,"Service Area: "]
[]
[null,null," 10) Network ID: ",null,null,null,"Service Area: "]
[]
[null,"2) Once the network information has been entered above, click the [CREATE WORKSHEETS] button to create the appropriate data worksheets.\n\n\n3) After the YOY data worksheets are created, input the data into each of the worksheet(s) based on the specified network and the appropriate plan year 2021 and 2022 provider and facility data. PLEASE NOTE: Counts should be based on unique provider and facilty locations."]
[]
[null,"Part 2: Network Adequacy Templates Data Entry"]
[null,null,{"$f":"\"Enter or copy and paste the data from the ECP/Network Adequacy Template for plan years \"&'Specialty Codes'!C2&\" and \"&'Specialty Codes'!C2-1&\". Please note:\"","v":"Enter or copy and paste the data from the ECP/Network Adequacy Template for plan years 2024 and 2023. Please note:"}]
[" "]
[null,null,{"$f":"\"a)The plan year \"&'Specialty Codes'!C2-1&\" data should be pulled from the approved ECP/Network Adequacy Template.\"","v":"a)The plan year 2023 data should be pulled from the approved ECP/Network Adequacy Template."}]
[]
[null,null,"b) Be sure to paste the appropriate data into the specificed tabs. ECP facility and individual providers into the ECP tabs and the [Facilities&Pharmacies] and [IndividualProviders] tab in into the corresponding tabs in the workbook."]
[]
[]
[]
[null,"2)","Once all of the data has been entered or pasted, hit the run button."]
[]
[null,"3)","The run button will consolidate all of the worksheets and create additional entries for providers or facilities with more than one specialty code. The consolidated worksheet will be under the [Final] tab. The data in the [Final] tab will be used to populate the pivot table on the [Pivot] Tab. "]

{"sheet":"Pivot","index":1,"n_rows":335,"n_cols":9,"rows_kept":335,"cut":false,"hidden":true,"merged":[[5,0,45,0],[46,0,46,2],[17,1,19,1],[47,0,68,0],[69,0,69,2],[70,0,119,0],[120,0,120,2],[121,0,144,0],[145,0,145,2],[85,1,87,1],[127,1,129,1],[216,0,216,2],[146,0,175,0],[176,0,176,2],[177,0,179,0],[180,0,180,2],[181,0,185,0],[331,0,332,0],[333,0,333,2],[334,0,334,2],[296,0,296,2],[297,0,314,0],[315,0,315,2],[316,0,322,0],[323,0,323,2],[3,3,3,4],[3,5,3,6],[3,7,3,8],[324,0,329,0],[330,0,330,2],[217,0,238,0],[239,0,239,2],[240,0,244,0],[245,0,245,2],[246,0,295,0],[224,1,226,1],[261,1,263,1],[186,0,186,2],[187,0,205,0],[206,0,206,2],[207,0,215,0]]}
["Network IDs*","(All)"]
[]
[null,null,null,"Values","Plan Year"]
[null,null,null,"Count",null,"YOY Difference",null,"% Difference"]
["County*","Code","Facility/Specialty Type  (area of medicine)*",2021,2020,2021,2020,2021,2020]
["CARSON CITY","000","000 OTHER",21,22,21,22,21,22]
[null,"057","057 Ambulatory Health Care Facilities - Infusion Therapy/Oncology/Radiology",8,3,8,3,8,3]
[null,"040","040 General Acute Care Hospital",2,1,2,1,2,1]
[null,"045","045 Surgical Services (Ambulatory Surgical Centers and Outpatient Hospital)",6,5,6,5,6,5]
[null,"055","055 Home Health",1,1,1,1,1,1]
[null,"044","044 Outpatient Dialysis",1,2,1,2,1,2]
[null,"046","046 Skilled Nursing Facilities",1,1,1,1,1,1]
[null,"049","049 Physical Therapy (individual physical therapists providing care in Free-standing; hospital outpatient and ambulatory health care facilities)",7,7,7,7,7,7]
[null,"050","050 Occupational Therapist",1,1,1,1,1,1]
[null,"054","054 Orthotics and Prosthetics",4,3,4,3,4,3]
[null,"015","015 General Surgery",7,9,7,9,7,9]
[null,"002","002 Family Medicine",17,2,17,2,17,2]
[null,"Den","Dental - General",12,14,12,14,12,14]
[null,null,"Dental - Orthodontist",3,3,3,3,3,3]
[null,null,"Dental - Endodontist",4,2,4,2,4,2]
[null,"029","029 Psychiatry",1,null,1,null,1]
[null,"102","102 Licensed Clinical Social Workers",2,2,2,2,2,2]
[null,"021","021 Medical Oncology & Surgical Oncology",2,2,2,2,2,2]
[null,"005","005 Primary Care - Physician Assistant",19,21,19,21,19,21]
[null,"003","003 Internal Medicine",11,12,11,12,11,12]
[null,"018","018 Nephrology",9,11,9,11,9,11]
[null,"101","101 Pediatrics - Routine/Primary Care",6,7,6,7,6,7]
[null,"033","033 Urology",4,4,4,4,4,4]
[null,"011","011 Dermatology",3,1,3,1,3,1]
[null,"008","008 Cardiovascular Disease",25,29,25,29,25,29]
[null,"006","006 Primary Care - Nurse Practitioner",5,22,5,22,5,22]
[null,"028","028 Podiatry",1,2,1,2,1,2]
[null,"010","010 Chiropracty",3,3,3,3,3,3]
[null,"012","012 Endocrinology",4,3,4,3,4,3]
[null,"022","022 Radiation Oncology",3,5,3,5,3,5]
[null,"030","030 Pulmonology",5,5,5,5,5,5]
[null,"025","025 Orthopedic Surgery",9,13,9,13,9,13]
[null,"023","023 Ophthalmology",7,10,7,10,7,10]
[null,"016","016 Gynecology (OB/GYN)",10,12,10,12,10,12]
[null,"013","013 ENT/Otolaryngology",6,2,6,2,6,2]
[null,"014","014 Gastroenterology",15,18,15,18,15,18]
[null,"031","031 Rheumatology",1,1,1,1,1,1]
[null,"020","020 Neurological Surgery",3,4,3,4,3,4]
[null,"019","019 Neurology",1,3,1,3,1,3]
[null,"007","007 Allergy and Immunology",6,6,6,6,6,6]
[null,"026","026 Physical Medicine & Rehabilitation",4,4,4,4,4,4]
["CARSON CITY Total",null,null,260,278,260,278,260,278]
["CHURCHILL","000","000 OTHER",6,6,6,6,6,6]
[null,"044","044 Outpatient Dialysis",null,1,null,1,null,1]
[null,"049","049 Physical Therapy (individual physical therapists providing care in Free-standing; hospital outpatient and ambulatory health care facilities)",2,1,2,1,2,1]
[null,"015","015 General Surgery",2,2,2,2,2,2]
[null,"002","002 Family Medicine",7,null,7,null,7]
[null,"Den","Dental - General",1,2,1,2,1,2]
[null,"029","029 Psychiatry",1,null,1,null,1]
[null,"102","102 Licensed Clinical Social Workers",1,1,1,1,1,1]
[null,"021","021 Medical Oncology & Surgical Oncology",4,4,4,4,4,4]
[null,"005","005 Primary Care - Physician Assistant",5,7,5,7,5,7]
[null,"003","003 Internal Medicine",5,5,5,5,5,5]
[null,"018","018 Nephrology",3,4,3,4,3,4]
[null,"101","101 Pediatrics - Routine/Primary Care",1,1,1,1,1,1]
[null,"033","033 Urology",1,1,1,1,1,1]
[null,"011","011 Dermatology",1,2,1,2,1,2]
[null,"008","008 Cardiovascular Disease",17,19,17,19,17,19]
[null,"006","006 Primary Care - Nurse Practitioner",4,8,4,8,4,8]
[null,"028","028 Podiatry",2,3,2,3,2,3]
[null,"025","025 Orthopedic Surgery",1,1,1,1,1,1]
[null,"019","019 Neurology",null,1,null,1,null,1]
[null,"007","007 Allergy and Immunology",5,6,5,6,5,6]
[null,"026","026 Physical Medicine & Rehabilitation",6,7,6,7,6,7]
["CHURCHILL Total",null,null,75,82,75,82,75,82]
["CLARK","000","000 OTHER",1287,1043,1287,1043,1287,1043]
[null,"057","057 Ambulatory Health Care Facilities - Infusion Therapy/Oncology/Radiology",27,26,27,26,27,26]
[null,"040","040 General Acute Care Hospital",13,13,13,13,13,13]
[null,"045","045 Surgical Services (Ambulatory Surgical Centers and Outpatient Hospital)",5,4,5,4,5,4]
[null,"055","055 Home Health",3,2,3,2,3,2]
[null,"044","044 Outpatient Dialysis",10,9,10,9,10,9]
[null,"046","046 Skilled Nursing Facilities",12,11,12,11,12,11]
[null,"049","049 Physical Therapy (individual physical therapists providing care in Free-standing; hospital outpatient and ambulatory health care facilities)",8,4,8,4,8,4]
[null,"050","050 Occupational Therapist",3,3,3,3,3,3]
[null,"051","051 Speech Therapy",1,1,1,1,1,1]
[null,"052","052 Inpatient Psychiatry (Free-Standing inpatient psychiatric facility and psychiatric beds within an Acute Care Hospital)",11,12,11,12,11,12]
[null,"054","054 Orthotics and Prosthetics",7,5,7,5,7,5]
[null,"056","056 Durable Medical Equipment",6,6,6,6,6,6]
[null,"015","015 General Surgery",55,63,55,63,55,63]
[null,"002","002 Family Medicine",184,22,184,22,184,22]
[null,"Den","Dental - General",784,700,784,700,784,700]
[null,null,"Dental - Orthodontist",175,160,175,160,175,160]
[null,null,"Dental - Endodontist",115,95,115,95,115,95]
[null,"103","103 Psychology",34,42,34,42,34,42]
[null,"029","029 Psychiatry",140,128,140,128,140,128]
[null,"102","102 Licensed Clinical Social Workers",215,202,215,202,215,202]
[null,"021","021 Medical Oncology & Surgical Oncology",64,61,64,61,64,61]
[null,"005","005 Primary Care - Physician Assistant",311,283,311,283,311,283]
[null,"003","003 Internal Medicine",191,215,191,215,191,215]
[null,"018","018 Nephrology",33,39,33,39,33,39]
[null,"101","101 Pediatrics - Routine/Primary Care",202,205,202,205,202,205]
[null,"033","033 Urology",40,38,40,38,40,38]
[null,"011","011 Dermatology",23,25,23,25,23,25]
[null,"008","008 Cardiovascular Disease",114,191,114,191,114,191]
[null,"006","006 Primary Care - Nurse Practitioner",127,295,127,295,127,295]
[null,"028","028 Podiatry",6,6,6,6,6,6]
[null,"010","010 Chiropracty",10,11,10,11,10,11]
[null,"012","012 Endocrinology",17,21,17,21,17,21]
[null,"022","022 Radiation Oncology",14,8,14,8,14,8]
[null,"030","030 Pulmonology",33,33,33,33,33,33]
[null,"025","025 Orthopedic Surgery",25,21,25,21,25,21]
[null,"023","023 Ophthalmology",18,14,18,14,18,14]
[null,"016","016 Gynecology (OB/GYN)",150,139,150,139,150,139]
[null,"013","013 ENT/Otolaryngology",13,11,13,11,13,11]
[null,"034","034 Vascular Surgery",3,4,3,4,3,4]
[null,"014","014 Gastroenterology",15,16,15,16,15,16]
[null,"031","031 Rheumatology",10,14,10,14,10,14]
[null,"017","017 Infectious Diseases",15,14,15,14,15,14]
[null,"001","001 General Practice",20,null,20,null,20]
[null,"020","020 Neurological Surgery",14,10,14,10,14,10]
[null,"019","019 Neurology",9,12,9,12,9,12]
[null,"007","007 Allergy and Immunology",7,4,7,4,7,4]
[null,"026","026 Physical Medicine & Rehabilitation",1,null,1,null,1]
[null,"027","027 Plastic Surgery",3,5,3,5,3,5]
[null,"004","004 Geriatrics",null,1,null,1,null,1]
["CLARK Total",null,null,4583,4247,4583,4247,4583,4247]
["DOUGLAS","000","000 OTHER",19,23,19,23,19,23]
[null,"057","057 Ambulatory Health Care Facilities - Infusion Therapy/Oncology/Radiology",1,1,1,1,1,1]
[null,"040","040 General Acute Care Hospital",2,1,2,1,2,1]
[null,"044","044 Outpatient Dialysis",1,1,1,1,1,1]
[null,"049","049 Physical Therapy (individual physical therapists providing care in Free-standing; hospital outpatient and ambulatory health care facilities)",3,4,3,4,3,4]
[null,"002","002 Family Medicine",15,4,15,4,15,4]
[null,"Den","Dental - General",6,7,6,7,6,7]
[null,null,"Dental - Orthodontist",2,2,2,2,2,2]
[null,null,"Dental - Endodontist",3,3,3,3,3,3]
[null,"029","029 Psychiatry",3,1,3,1,3,1]
[null,"102","102 Licensed Clinical Social Workers",1,1,1,1,1,1]
[null,"021","021 Medical Oncology & Surgical Oncology",1,1,1,1,1,1]
[null,"005","005 Primary Care - Physician Assistant",10,13,10,13,10,13]
[null,"003","003 Internal Medicine",8,9,8,9,8,9]
[null,"101","101 Pediatrics - Routine/Primary Care",2,3,2,3,2,3]
[null,"011","011 Dermatology",6,4,6,4,6,4]
[null,"008","008 Cardiovascular Disease",17,19,17,19,17,19]
[null,"006","006 Primary Care - Nurse Practitioner",13,24,13,24,13,24]
[null,"028","028 Podiatry",2,2,2,2,2,2]
[null,"025","025 Orthopedic Surgery",14,22,14,22,14,22]
[null,"023","023 Ophthalmology",3,4,3,4,3,4]
[null,"016","016 Gynecology (OB/GYN)",1,1,1,1,1,1]
[null,"031","031 Rheumatology",1,1,1,1,1,1]
[null,"007","007 Allergy and Immunology",3,3,3,3,3,3]
["DOUGLAS Total",null,null,137,154,137,154,137,154]
["ELKO","000","000 OTHER",5,4,5,4,5,4]
[null,"057","057 Ambulatory Health Care Facilities - Infusion Therapy/Oncology/Radiology",1,1,1,1,1,1]
[null,"049","049 Physical Therapy (individual physical therapists providing care in Free-standing; hospital outpatient and ambulatory health care facilities)",3,4,3,4,3,4]
[null,"050","050 Occupational Therapist",2,2,2,2,2,2]
[null,"051","051 Speech Therapy",1,null,1,null,1]
[null,"052","052 Inpatient Psychiatry (Free-Standing inpatient psychiatric facility and psychiatric beds within an Acute Care Hospital)",1,1,1,1,1,1]
[null,"054","054 Orthotics and Prosthetics",1,1,1,1,1,1]
[null,"056","056 Durable Medical Equipment",1,1,1,1,1,1]
[null,"015","015 General Surgery",1,1,1,1,1,1]
[null,"002","002 Family Medicine",17,2,17,2,17,2]
[null,"Den","Dental - General",5,3,5,3,5,3]
[null,"029","029 Psychiatry",1,null,1,null,1]
[null,"102","102 Licensed Clinical Social Workers",1,1,1,1,1,1]
[null,"005","005 Primary Care - Physician Assistant",7,9,7,9,7,9]
[null,"003","003 Internal Medicine",2,3,2,3,2,3]
[null,"018","018 Nephrology",3,4,3,4,3,4]
[null,"101","101 Pediatrics - Routine/Primary Care",3,2,3,2,3,2]
[null,"033","033 Urology",1,1,1,1,1,1]
[null,"011","011 Dermatology",1,2,1,2,1,2]
[null,"008","008 Cardiovascular Disease",2,3,2,3,2,3]
[null,"006","006 Primary Care - Nurse Practitioner",5,20,5,20,5,20]
[null,"028","028 Podiatry",1,1,1,1,1,1]
[null,"010","010 Chiropracty",1,1,1,1,1,1]
[null,"025","025 Orthopedic Surgery",3,3,3,3,3,3]
[null,"023","023 Ophthalmology",2,2,2,2,2,2]
[null,"016","016 Gynecology (OB/GYN)",1,1,1,1,1,1]
[null,"013","013 ENT/Otolaryngology",2,2,2,2,2,2]
[null,"014","014 Gastroenterology",1,1,1,1,1,1]
[null,"001","001 General Practice",1,null,1,null,1]
[null,"026","026 Physical Medicine & Rehabilitation",3,3,3,3,3,3]
["ELKO Total",null,null,79,79,79,79,79,79]
["LANDER","057","057 Ambulatory Health Care Facilities - Infusion Therapy/Oncology/Radiology",1,1,1,1,1,1]
[null,"005","005 Primary Care - Physician Assistant",1,1,1,1,1,1]
[null,"006","006 Primary Care - Nurse Practitioner",1,null,1,null,1]
["LANDER Total",null,null,3,2,3,2,3,2]
["LINCOLN","040","040 General Acute Care Hospital",1,1,1,1,1,1]
[null,"002","002 Family Medicine",4,null,4,null,4]
[null,"029","029 Psychiatry",1,null,1,null,1]
[null,"006","006 Primary Care - Nurse Practitioner",5,10,5,10,5,10]
[null,"028","028 Podiatry",2,1,2,1,2,1]
["LINCOLN Total",null,null,13,12,13,12,13,12]
["LYON","000","000 OTHER",13,13,13,13,13,13]
[null,"057","057 Ambulatory Health Care Facilities - Infusion Therapy/Oncology/Radiology",2,2,2,2,2,2]
[null,"040","040 General Acute Care Hospital",2,1,2,1,2,1]
[null,"055","055 Home Health",4,2,4,2,4,2]
[null,"049","049 Physical Therapy (individual physical therapists providing care in Free-standing; hospital outpatient and ambulatory health care facilities)",2,2,2,2,2,2]
[null,"050","050 Occupational Therapist",1,1,1,1,1,1]
[null,"002","002 Family Medicine",18,3,18,3,18,3]
[null,"Den","Dental - General",1,1,1,1,1,1]
[null,"029","029 Psychiatry",null,1,null,1,null,1]
[null,"102","102 Licensed Clinical Social Workers",null,1,null,1,null,1]
[null,"005","005 Primary Care - Physician Assistant",18,22,18,22,18,22]
[null,"003","003 Internal Medicine",8,7,8,7,8,7]
[null,"008","008 Cardiovascular Disease",6,8,6,8,6,8]
[null,"006","006 Primary Care - Nurse Practitioner",19,17,19,17,19,17]
[null,"010","010 Chiropracty",null,1,null,1,null,1]
[null,"025","025 Orthopedic Surgery",1,1,1,1,1,1]
[null,"014","014 Gastroenterology",1,1,1,1,1,1]
[null,"007","007 Allergy and Immunology",3,3,3,3,3,3]
[null,"026","026 Physical Medicine & Rehabilitation",6,7,6,7,6,7]
["LYON Total",null,null,105,94,105,94,105,94]
["MINERAL","057","057 Ambulatory Health Care Facilities - Infusion Therapy/Oncology/Radiology",1,1,1,1,1,1]
[null,"040","040 General Acute Care Hospital",1,1,1,1,1,1]
[null,"046","046 Skilled Nursing Facilities",1,1,1,1,1,1]
[null,"002","002 Family Medicine",1,1,1,1,1,1]
[null,"005","005 Primary Care - Physician Assistant",2,2,2,2,2,2]
[null,"003","003 Internal Medicine",2,2,2,2,2,2]
[null,"006","006 Primary Care - Nurse Practitioner",3,5,3,5,3,5]
[null,"014","014 Gastroenterology",1,1,1,1,1,1]
[null,"001","001 General Practice",1,null,1,null,1]
["MINERAL Total",null,null,13,14,13,14,13,14]
["NYE","000","000 OTHER",6,8,6,8,6,8]
[null,"057","057 Ambulatory Health Care Facilities - Infusion Therapy/Oncology/Radiology",1,1,1,1,1,1]
[null,"040","040 General Acute Care Hospital",1,1,1,1,1,1]
[null,"046","046 Skilled Nursing Facilities",1,1,1,1,1,1]
[null,"054","054 Orthotics and Prosthetics",1,1,1,1,1,1]
[null,"015","015 General Surgery",2,2,2,2,2,2]
[null,"002","002 Family Medicine",16,2,16,2,16,2]
[null,"Den","Dental - General",2,2,2,2,2,2]
[null,null,"Dental - Orthodontist",2,2,2,2,2,2]
[null,null,"Dental - Endodontist",1,1,1,1,1,1]
[null,"029","029 Psychiatry",5,5,5,5,5,5]
[null,"102","102 Licensed Clinical Social Workers",3,3,3,3,3,3]
[null,"021","021 Medical Oncology & Surgical Oncology",2,2,2,2,2,2]
[null,"005","005 Primary Care - Physician Assistant",13,13,13,13,13,13]
[null,"003","003 Internal Medicine",6,4,6,4,6,4]
[null,"101","101 Pediatrics - Routine/Primary Care",2,null,2,null,2]
[null,"008","008 Cardiovascular Disease",null,1,null,1,null,1]
[null,"006","006 Primary Care - Nurse Practitioner",7,24,7,24,7,24]
[null,"010","010 Chiropracty",1,1,1,1,1,1]
[null,"016","016 Gynecology (OB/GYN)",1,1,1,1,1,1]
[null,"001","001 General Practice",1,null,1,null,1]
[null,"019","019 Neurology",1,1,1,1,1,1]
["NYE Total",null,null,75,76,75,76,75,76]
["PERSHING","040","040 General Acute Care Hospital",2,1,2,1,2,1]
[null,"002","002 Family Medicine",10,null,10,null,10]
[null,"005","005 Primary Care - Physician Assistant",2,1,2,1,2,1]
[null,"008","008 Cardiovascular Disease",2,1,2,1,2,1]
[null,"006","006 Primary Care - Nurse Practitioner",null,6,null,6,null,6]
["PERSHING Total",null,null,16,9,16,9,16,9]
["WASHOE","000","000 OTHER",287,255,287,255,287,255]
[null,"057","057 Ambulatory Health Care Facilities - Infusion Therapy/Oncology/Radiology",17,18,17,18,17,18]
[null,"040","040 General Acute Care Hospital",6,4,6,4,6,4]
[null,"045","045 Surgical Services (Ambulatory Surgical Centers and Outpatient Hospital)",12,11,12,11,12,11]
[null,"055","055 Home Health",6,7,6,7,6,7]
[null,"044","044 Outpatient Dialysis",3,7,3,7,3,7]
[null,"046","046 Skilled Nursing Facilities",8,7,8,7,8,7]
[null,"049","049 Physical Therapy (individual physical therapists providing care in Free-standing; hospital outpatient and ambulatory health care facilities)",46,42,46,42,46,42]
[null,"050","050 Occupational Therapist",17,14,17,14,17,14]
[null,"051","051 Speech Therapy",19,17,19,17,19,17]
[null,"052","052 Inpatient Psychiatry (Free-Standing inpatient psychiatric facility and psychiatric beds within an Acute Care Hospital)",4,3,4,3,4,3]
[null,"054","054 Orthotics and Prosthetics",8,6,8,6,8,6]
[null,"056","056 Durable Medical Equipment",6,6,6,6,6,6]
[null,"015","015 General Surgery",51,58,51,58,51,58]
[null,"002","002 Family Medicine",153,16,153,16,153,16]
[null,"Den","Dental - General",64,65,64,65,64,65]
[null,null,"Dental - Orthodontist",12,11,12,11,12,11]
[null,null,"Dental - Endodontist",19,17,19,17,19,17]
[null,"103","103 Psychology",20,26,20,26,20,26]
[null,"029","029 Psychiatry",54,55,54,55,54,55]
[null,"102","102 Licensed Clinical Social Workers",31,31,31,31,31,31]
[null,"021","021 Medical Oncology & Surgical Oncology",13,23,13,23,13,23]
[null,"005","005 Primary Care - Physician Assistant",101,132,101,132,101,132]
[null,"003","003 Internal Medicine",65,62,65,62,65,62]
[null,"018","018 Nephrology",27,16,27,16,27,16]
[null,"101","101 Pediatrics - Routine/Primary Care",57,59,57,59,57,59]
[null,"033","033 Urology",13,15,13,15,13,15]
[null,"011","011 Dermatology",42,64,42,64,42,64]
[null,"008","008 Cardiovascular Disease",112,140,112,140,112,140]
[null,"006","006 Primary Care - Nurse Practitioner",43,175,43,175,43,175]
[null,"028","028 Podiatry",14,14,14,14,14,14]
[null,"010","010 Chiropracty",28,25,28,25,28,25]
[null,"012","012 Endocrinology",9,10,9,10,9,10]
[null,"022","022 Radiation Oncology",7,7,7,7,7,7]
[null,"030","030 Pulmonology",19,12,19,12,19,12]
[null,"025","025 Orthopedic Surgery",70,65,70,65,70,65]
[null,"023","023 Ophthalmology",28,28,28,28,28,28]
[null,"016","016 Gynecology (OB/GYN)",67,45,67,45,67,45]
[null,"013","013 ENT/Otolaryngology",9,9,9,9,9,9]
[null,"034","034 Vascular Surgery",3,4,3,4,3,4]
[null,"014","014 Gastroenterology",36,39,36,39,36,39]
[null,"031","031 Rheumatology",9,7,9,7,9,7]
[null,"017","017 Infectious Diseases",12,9,12,9,12,9]
[null,"001","001 General Practice",1,null,1,null,1]
[null,"020","020 Neurological Surgery",20,29,20,29,20,29]
[null,"019","019 Neurology",18,17,18,17,18,17]
[null,"007","007 Allergy and Immunology",7,6,7,6,7,6]
[null,"026","026 Physical Medicine & Rehabilitation",16,17,16,17,16,17]
[null,"027","027 Plastic Surgery",8,8,8,8,8,8]
[null,"004","004 Geriatrics",5,3,5,3,5,3]
["WASHOE Total",null,null,1702,1716,1702,1716,1702,1716]
["WHITE PINE","000","000 OTHER",5,4,5,4,5,4]
[null,"040","040 General Acute Care Hospital",1,1,1,1,1,1]
[null,"056","056 Durable Medical Equipment",1,1,1,1,1,1]
[null,"015","015 General Surgery",5,3,5,3,5,3]
[null,"002","002 Family Medicine",3,null,3,null,3]
[null,"102","102 Licensed Clinical Social Workers",3,3,3,3,3,3]
[null,"005","005 Primary Care - Physician Assistant",4,2,4,2,4,2]
[null,"003","003 Internal Medicine",10,5,10,5,10,5]
[null,"018","018 Nephrology",2,3,2,3,2,3]
[null,"101","101 Pediatrics - Routine/Primary Care",1,1,1,1,1,1]
[null,"033","033 Urology",1,2,1,2,1,2]
[null,"011","011 Dermatology",1,1,1,1,1,1]
[null,"006","006 Primary Care - Nurse Practitioner",null,4,null,4,null,4]
[null,"028","028 Podiatry",1,1,1,1,1,1]
[null,"025","025 Orthopedic Surgery",4,5,4,5,4,5]
[null,"016","016 Gynecology (OB/GYN)",6,6,6,6,6,6]
[null,"013","013 ENT/Otolaryngology",1,1,1,1,1,1]
[null,"001","001 General Practice",1,null,1,null,1]
["WHITE PINE Total",null,null,50,43,50,43,50,43]
["HUMBOLDT","000","000 OTHER",1,2,1,2,1,2]
[null,"102","102 Licensed Clinical Social Workers",1,1,1,1,1,1]
[null,"018","018 Nephrology",3,4,3,4,3,4]
[null,"011","011 Dermatology",2,3,2,3,2,3]
[null,"025","025 Orthopedic Surgery",3,null,3,null,3]
[null,"016","016 Gynecology (OB/GYN)",2,1,2,1,2,1]
[null,"014","014 Gastroenterology",1,1,1,1,1,1]
["HUMBOLDT Total",null,null,13,12,13,12,13,12]
["EUREKA","015","015 General Surgery",2,2,2,2,2,2]
[null,"002","002 Family Medicine",3,null,3,null,3]
[null,"005","005 Primary Care - Physician Assistant",2,2,2,2,2,2]
[null,"003","003 Internal Medicine",2,2,2,2,2,2]
[null,"101","101 Pediatrics - Routine/Primary Care",2,2,2,2,2,2]
[null,"006","006 Primary Care - Nurse Practitioner",null,3,null,3,null,3]
["EUREKA Total",null,null,11,11,11,11,11,11]
["STOREY","000","000 OTHER",1,1,1,1,1,1]
[null,"006","006 Primary Care - Nurse Practitioner",2,2,2,2,2,2]
["STOREY Total",null,null,3,3,3,3,3,3]
["Grand Total",null,null,7138,6832,7138,6832,7138,6832]

{"sheet":"Final","index":2,"n_rows":1,"n_cols":18,"rows_kept":1,"cut":false,"hidden":true,"merged":[]}
["National Provider Number (NPI)* ","Provider Name Prefix","First Name of Provider/Facility Name*","Middle Initial of Provider","Last Name of Provider*","Suffix of Provider","Physician / Non-Physician/Facility","Facility/Specialty Type  (area of medicine)*","Street Address*","Street Address 2","City*","State*","County*","Zip*","Network IDs*","Plan Year","Code","2018 Flag"]

{"sheet":"Consolidated ECP","index":3,"n_rows":1,"n_cols":18,"rows_kept":1,"cut":false,"hidden":true,"merged":[]}
["Row Number","National Provider Identifier (NPI)*","Facility Name/Provider Entity Name*","Provider Name*","ECP Category (General ECP Standard Issuers Only)*","Street Address*","Street Address 2","City*","State*","County*","Zip*","Network IDs*","Hospital Bed Count*","Number of Medical FTEs*","Number of Dental FTEs*","Physician/Non Physician*","Specialty Type (area of medicine)*","Plan Year"]

{"sheet":"Consolidated","index":4,"n_rows":1,"n_cols":44,"rows_kept":1,"cut":false,"hidden":true,"merged":[]}
["National Provider Number (NPI)* ","Provider Name Prefix","First Name of Provider/Facility Name*","Middle Initial of Provider","Last Name of Provider*","Suffix of Provider","Physician / Non-Physician/Facility","Facility/Specialty Type  (area of medicine)*","Street Address*","Street Address 2","City*","State*","County*","Zip*","Network IDs*","Plan Year","Code","Facility/Specialty Type 1","Facility/Specialty Type 2","Facility/Specialty Type 3","Facility/Specialty Type 4","Facility/Specialty Type 5","Facility/Specialty Type 6","Facility/Specialty Type 7","Facility/Specialty Type 8","Facility/Specialty Type 9","Type 1","Type 2","Type 3","Type 4","Type 5","Type 6","Type 7","Type 8","Type 9","Code 1","Code 2","Code 3","Code 4","Code 5","Code 6","Code 7","Code 8","Code 9"]

{"sheet":"PY2024 Facilty ECPs","index":5,"n_rows":1,"n_cols":15,"rows_kept":1,"cut":false,"hidden":false,"merged":[]}
["Row Number","National Provider Identifier (NPI)*","Facility Name*","Provider Name*","ECP Category (General ECP Standard Issuers Only)*","Street Address*","Street Address 2","City*","State*","County*","Zip*","Network IDs*","Hospital Bed Count*","Number of Medical FTEs*","Number of Dental FTEs*"]

{"sheet":"PY2023 Facilty ECPs","index":6,"n_rows":1,"n_cols":15,"rows_kept":1,"cut":false,"hidden":false,"merged":[]}
["Row Number","National Provider Identifier (NPI)*","Facility Name*","Provider Name*","ECP Category (General ECP Standard Issuers Only)*","Street Address*","Street Address 2","City*","State*","County*","Zip*","Network IDs*","Hospital Bed Count*","Number of Medical FTEs*","Number of Dental FTEs*"]

{"sheet":"PY2024 Individual ECPs","index":7,"n_rows":1,"n_cols":20,"rows_kept":1,"cut":false,"hidden":false,"merged":[]}
["Row Number","National Provider Identifier (NPI)*",null,null,null,"Name of Provider*",null,"Physician/Non Physician*","Specialty Type (area of medicine)*","Provider Entity Name*","ECP Category (General ECP Standard Issuers Only)*","Street Address*","Street Address 2","City*"," State*","County*","Zip*","Network IDs*","Number of Medical FTEs*","Number of Dental FTEs*"]

{"sheet":"PY2023 Individual ECPs","index":8,"n_rows":1,"n_cols":20,"rows_kept":1,"cut":false,"hidden":false,"merged":[]}
["Row Number","National Provider Identifier (NPI)*",null,null,null,"Name of Provider*",null,"Physician/Non Physician*","Specialty Type (area of medicine)*","Provider Entity Name*","ECP Category (General ECP Standard Issuers Only)*","Street Address*","Street Address 2","City*"," State*","County*","Zip*","Network IDs*","Number of Medical FTEs*","Number of Dental FTEs*"]

{"sheet":"PY2024 Facilities&Pharmacies","index":9,"n_rows":1,"n_cols":10,"rows_kept":1,"cut":false,"hidden":false,"merged":[]}
["National Provider Number (NPI)*","Facility Name*","Facility Type*","Street Address*","Street Address 2","City*","State*","County*","Zip*","Network IDs*"]

{"sheet":"PY2023 Facilities&Pharmacies","index":10,"n_rows":1,"n_cols":10,"rows_kept":1,"cut":false,"hidden":false,"merged":[]}
["National Provider Number (NPI)*","Facility Name*","Facility Type*","Street Address*","Street Address 2","City*","State*","County*","Zip*","Network IDs*"]

{"sheet":"PY2024 IndividualProviders","index":11,"n_rows":1,"n_cols":15,"rows_kept":1,"cut":false,"hidden":false,"merged":[]}
["National Provider Number (NPI)* ","Provider Name Prefix","First Name of Provider*","Middle Initial of Provider","Last Name of Provider*","Suffix of Provider","Physician / Non-Physician*","Specialty Type  (area of medicine)*","Street Address*","Street Address 2","City*","State*","County*","Zip*","Network IDs*"]

{"sheet":"PY2023 IndividualProviders","index":12,"n_rows":1,"n_cols":15,"rows_kept":1,"cut":false,"hidden":false,"merged":[]}
["National Provider Number (NPI)* ","Provider Name Prefix","First Name of Provider*","Middle Initial of Provider","Last Name of Provider*","Suffix of Provider","Physician / Non-Physician*","Specialty Type  (area of medicine)*","Street Address*","Street Address 2","City*","State*","County*","Zip*","Network IDs*"]

{"sheet":"Specialty Codes","index":13,"n_rows":85,"n_cols":12,"rows_kept":85,"cut":false,"hidden":true,"merged":[]}
["State","County","Plan Year",null,"Formulas"]
["NV","Carson City",2024,null,{"$f":"AJ2","v":0}]
["NV","Churchill",null,null,{"$f":"IFERROR(LEFT(H2,SEARCH(\",\",H2,1)),H2)","v":0}]
["NV","Clark","Plan Type",null,{"$f":"IFERROR(LEFT(SUBSTITUTE(H2,R2,\"\"),SEARCH(\",\",SUBSTITUTE(H2,R2,\"\"),1)),SUBSTITUTE(H2,R2,\"\"))","v":""}]
["NV","Douglas","Individual",null,{"$f":"IFERROR(LEFT(SUBSTITUTE(H2,R2&S2,\"\"),SEARCH(\",\",SUBSTITUTE(H2,R2&S2,\"\"),1)),SUBSTITUTE(H2,R2&S2,\"\"))","v":""}]
["NV","Elko","Small Group",null,{"$f":"IFERROR(LEFT(SUBSTITUTE(H2,R2&S2&T2,\"\"),SEARCH(\",\",SUBSTITUTE(H2,R2&S2&T2,\"\"),1)),SUBSTITUTE(H2,R2&S2&T2,\"\"))","v":""}]
["NV","Esmeralda",null,null,{"$f":"IFERROR(LEFT(SUBSTITUTE(H2,R2&S2&T2&U2,\"\"),SEARCH(\",\",SUBSTITUTE(H2,R2&S2&T2&U2,\"\"),1)),SUBSTITUTE(H2,R2&S2&T2&U2,\"\"))","v":""}]
["NV","Eureka","Start Flag",null,{"$f":"IFERROR(LEFT(SUBSTITUTE(H2,R2&S2&T2&U2&V2,\"\"),SEARCH(\",\",SUBSTITUTE(H2,R2&S2&T2&U2&V2,\"\"),1)),SUBSTITUTE(H2,R2&S2&T2&U2&V2,\"\"))","v":""}]
["NV","Humboldt",null,null,{"$f":"IFERROR(LEFT(SUBSTITUTE(H2,R2&S2&T2&U2&V2&W2,\"\"),SEARCH(\",\",SUBSTITUTE(H2,R2&S2&T2&U2&V2&W2,\"\"),1)),SUBSTITUTE(H2,R2&S2&T2&U2&V2&W2,\"\"))","v":""}]
["NV","Lander",null,null,{"$f":"IFERROR(LEFT(SUBSTITUTE(H2,R2&S2&T2&U2&V2&W2&X2,\"\"),SEARCH(\",\",SUBSTITUTE(H2,R2&S2&T2&U2&V2&W2&X2,\"\"),1)),SUBSTITUTE(H2,R2&S2&T2&U2&V2&W2&X2,\"\"))","v":""}]
["NV","Lincoln",null,null,{"$f":"IFERROR(LEFT(SUBSTITUTE(H2,R2&S2&T2&U2&V2&W2&X2&Y2,\"\"),SEARCH(\",\",SUBSTITUTE(H2,R2&S2&T2&U2&V2&W2&X2&Y2,\"\"),1)),SUBSTITUTE(H2,R2&S2&T2&U2&V2&W2&X2&Y2,\"\"))","v":""}]
["NV","Lyon",null,null,{"$f":"SUBSTITUTE(TRIM(R2),\",\",\"\")","v":""}]
["NV","Mineral",null,null,{"$f":"SUBSTITUTE(TRIM(S2),\",\",\"\")","v":""}]
["NV","Nye",null,null,{"$f":"SUBSTITUTE(TRIM(T2),\",\",\"\")","v":""}]
["NV","Pershing",null,null,{"$f":"SUBSTITUTE(TRIM(U2),\",\",\"\")","v":""}]
["NV","Storey",null,null,{"$f":"SUBSTITUTE(TRIM(V2),\",\",\"\")","v":""}]
["NV","Washoe",null,null,{"$f":"SUBSTITUTE(TRIM(W2),\",\",\"\")","v":""}]
["NV","White Pine",null,null,{"$f":"SUBSTITUTE(TRIM(X2),\",\",\"\")","v":""}]
[null,null,null,null,{"$f":"SUBSTITUTE(TRIM(Y2),\",\",\"\")","v":""}]
["Specialty","Code","Specialty Description","Number of Networks",{"$f":"SUBSTITUTE(TRIM(Z2),\",\",\"\")","v":""}]
["001 General Practice","001","General Practice",1,{"$f":"LEFT(TRIM(AA2),3)","v":""}]
["002 Family Medicine","002","Family Medicine",2,{"$f":"LEFT(TRIM(AB2),3)","v":""}]
["003 Internal Medicine","003","Internal Medicine",3,{"$f":"LEFT(TRIM(AC2),3)","v":""}]
["004 Geriatrics","004","Geriatrics",4,{"$f":"LEFT(TRIM(AD2),3)","v":""}]
["005 Primary Care - Physician Assistant","005","Primary Care - Physician Assistant",5,{"$f":"LEFT(TRIM(AE2),3)","v":""}]
["006 Primary Care - Nurse Practitioner","006","Primary Care - Nurse Practitioner",6,{"$f":"LEFT(TRIM(AF2),3)","v":""}]
["007 Allergy and Immunology","007","Allergy and Immunology",7,{"$f":"LEFT(TRIM(AG2),3)","v":""}]
["008 Cardiovascular Disease","008","Cardiovascular Disease",8,{"$f":"LEFT(TRIM(AH2),3)","v":""}]
["010 Chiropracty","010","Chiropracty",9,{"$f":"LEFT(TRIM(AI2),3)","v":""}]
["011 Dermatology","011","Dermatology",10]
["012 Endocrinology","012","Endocrinology",null,null,"YOY Rows",null,null,"DOI Rows",null,null," "]
["013 ENT/Otolaryngology","013","ENT/Otolaryngology","State","County","Begin","Start","Weight","Adeq.","Count","YOY"]
["014 Gastroenterology","014","Gastroenterology","NV","Entire State",2,{"$f":"G50","v":358},1,8,28,48]
["015 General Surgery","015","General Surgery","NV","Carson City",{"$f":"MATCH(E34&\" County\",YOY!$A:$A,0)-1","v":2},{"$f":"F34+20","v":22},2.1081482382468184E-2,8,28,48]
["016 Gynecology (OB/GYN)","016","Gynecology (OB/GYN)","NV","Churchill",{"$f":"MATCH(E35&\" County\",YOY!$A:$A,0)-1","v":23},{"$f":"F35+20","v":43},9.1862738408503564E-3,{"$f":"I34+1","v":9},{"$f":"J34+1","v":29},{"$f":"K34+1","v":49}]
["017 Infectious Diseases","017","Infectious Diseases","NV","Clark",{"$f":"MATCH(E36&\" County\",YOY!$A:$A,0)-1","v":44},64,0.72358742312632862,10,30,50]
["018 Nephrology","018","Nephrology","NV","Douglas",{"$f":"MATCH(E37&\" County\",YOY!$A:$A,0)-1","v":65},85,1.7886756517018258E-2,11,31,51]
["019 Neurology","019","Neurology","NV","Elko",{"$f":"MATCH(E38&\" County\",YOY!$A:$A,0)-1","v":86},106,1.660182034478563E-2,12,32,52]
["020 Neurological Surgery","020","Neurological Surgery","NV","Esmeralda",{"$f":"MATCH(E39&\" County\",YOY!$A:$A,0)-1","v":107},127,2.9926219076240263E-4,13,33,53]
["021 Medical Oncology & Surgical Oncology","021","Medical Oncology & Surgical Oncology","NV","Eureka",{"$f":"MATCH(E40&\" County\",YOY!$A:$A,0)-1","v":128},148,7.0087427576324773E-4,14,34,54]
["022 Radiation Oncology","022","Radiation Oncology","NV","Humboldt",{"$f":"MATCH(E41&\" County\",YOY!$A:$A,0)-1","v":149},169,6.6278973178394325E-3,15,35,55]
["023 Ophthalmology","023","Ophthalmology","NV","Lander",{"$f":"MATCH(E42&\" County\",YOY!$A:$A,0)-1","v":170},190,2.1908810694228932E-3,16,36,56]
["025 Orthopedic Surgery","025","Orthopedic Surgery","NV","Lincoln",{"$f":"MATCH(E43&\" County\",YOY!$A:$A,0)-1","v":191},211,1.9828437843947542E-3,17,37,57]
["026 Physical Medicine & Rehabilitation","026","Physical Medicine & Rehabilitation","NV","Lyon",{"$f":"MATCH(E44&\" County\",YOY!$A:$A,0)-1","v":212},232,1.8524589191257816E-2,18,38,58]
["027 Plastic Surgery","027","Plastic Surgery","NV","Mineral",{"$f":"MATCH(E45&\" County\",YOY!$A:$A,0)-1","v":233},253,1.7621981790618801E-3,19,39,59]
["028 Podiatry","028","Podiatry","NV","Nye",{"$f":"MATCH(E46&\" County\",YOY!$A:$A,0)-1","v":254},274,1.6271408186211526E-2,20,40,60]
["029 Psychiatry","029","Psychiatry","NV","Pershing",{"$f":"MATCH(E47&\" County\",YOY!$A:$A,0)-1","v":275},295,2.0536728778713575E-3,21,41,61]
["030 Pulmonology","030","Pulmonology","NV","Storey",{"$f":"MATCH(E48&\" County\",YOY!$A:$A,0)-1","v":296},316,3.5117880378190242E-4,22,42,62]
["031 Rheumatology","031","Rheumatology","NV","Washoe",{"$f":"MATCH(E49&\" County\",YOY!$A:$A,0)-1","v":317},337,0.15718792923913963,23,43,63]
["033 Urology","033","Urology",null,"White Pine",{"$f":"MATCH(E50&\" County\",YOY!$A:$A,0)-1","v":338},358,3.7035086730410347E-3,24,44,64]
["034 Vascular Surgery","034","Vascular Surgery",null,null,null,null,0.99999999999999878]
["035 Cardiothoracic Surgery","035","Cardiothoracic Surgery"]
["101 Pediatrics - Routine/Primary Care","101","Pediatrics - Routine/Primary Care"]
["102 Licensed Clinical Social Workers","102","Licensed Clinical Social Workers"]
["103 Psychology","103","Psychology"]
["000 OTHER","000","OTHER"]
["Dental - General","Dental - General","Dental - General"]
["Dental - Orthodontist","Dental - Orthodontist","Dental - Orthodontist"]
["Dental - Periodontist","Dental - Periodontist","Dental - Periodontist"]
["Dental - Endodontist","Dental - Endodontist","Dental - Endodontist"]
["Pharmacy","Pharmacy","Pharmacy"]
["040 General Acute Care Hospital","040","General Acute Care Hospital"]
["041 Cardiac Surgery Program","041","Cardiac Surgery Program"]
["042 Cardiac Catheterization Services","042","Cardiac Catheterization Services"]
["043 Critical Care Services - Intensive Care Units (ICU)","043","Critical Care Services - Intensive Care Units (ICU)"]
["044 Outpatient Dialysis","044","Outpatient Dialysis"]
["045 Surgical Services (Ambulatory Surgical Centers and Outpatient Hospital)","045","Surgical Services (Ambulatory Surgical Centers and Outpatient Hospital)"]
["046 Skilled Nursing Facilities","046","Skilled Nursing Facilities"]
["047 Diagnostic Radiology (free-standing; hospital outpatient; ambulatory health facilities with Dx Radiology)","047","Diagnostic Radiology (free-standing; hospital outpatient; ambulatory health facilities with Dx Radiology)"]
["048 Mammography","048","Mammography"]
["049 Physical Therapy (individual physical therapists providing care in Free-standing; hospital outpatient and ambulatory health care facilities)","049","Physical Therapy (individual physical therapists providing care in Free-standing; hospital outpatient and ambulatory health care facilities)"]
["050 Occupational Therapist","050","Occupational Therapist"]
["051 Speech Therapy","051","Speech Therapy"]
["052 Inpatient Psychiatry (Free-standing inpatient psychiatric facility and psychiatric beds within an Acute Care Hospital)","052","Inpatient Psychiatry (Free-standing inpatient psychiatric facility and psychiatric beds within an Acute Care Hospital)"]
["054 Orthotics and Prosthetics","054","Orthotics and Prosthetics"]
["055 Home Health","055","Home Health"]
["056 Durable Medical Equipment","056","Durable Medical Equipment"]
["057 Ambulatory Health Care Facilities - Infusion Therapy/Oncology/Radiology","057","Ambulatory Health Care Facilities - Infusion Therapy/Oncology/Radiology"]
["061 Heart Transplant Program","061","Heart Transplant Program"]
["062 Heart/Lung Transplant Program","062","Heart/Lung Transplant Program"]
["064 Kidney Transplant Program","064","Kidney Transplant Program"]
["065 Liver Transplant Program","065","Liver Transplant Program"]
["066 Lung Transplant Program","066","Lung Transplant Program"]
["067 Pancreas Transplant Program","067","Pancreas Transplant Program"]
["000 OTHER","000","OTHER"]

{"sheet":"DOI","index":14,"n_rows":64,"n_cols":17,"rows_kept":64,"cut":false,"hidden":true,"merged":[[0,10,0,11]]}
[null,null,null,null,"Network ID:  ",null,null,null,null,"SERFF Tracking #:",null,null,null,null,null,null,"Page: "]
[]
[null,null,null,null,"Primary Care","Endrocrinology","Infectious Diseases","Psychiatry","Licensed Clinical Social Workers","Psychology","Oncology - Medical / Surgery","Oncology - Radiation Oncology","Pediatrics","Rheumatology","Hospitals","Outpatient Dialysis"]
["Service Area",null,null,null,{"$f":"IF(SUM(E8:E24)>=0.9,\"PASS\",\"INVESTIGATE\")","v":{"$error":"#REF!"}},{"$error":"#REF!"},{"$error":"#REF!"},{"$error":"#REF!"},{"$error":"#REF!"},{"$error":"#REF!"},{"$error":"#REF!"},{"$error":"#REF!"},{"$error":"#REF!"},{"$error":"#REF!"},{"$error":"#REF!"},{"$error":"#REF!"}]
[]
[null,null,null,null,"Network Adequacy (Service Area Population Adjusted Weight)"]
["County","Population Weight","Included","Adjusted Population Weight","Primary Care","Endrocrinology","Infectious Diseases","Psychiatry","Licensed Clinical Social Workers","Psychology","Oncology - Medical / Surgery","Oncology - Radiation Oncology","Pediatrics","Rheumatology","Hospitals","Outpatient Dialysis"]
["Carson City",2.1081482382468184E-2,0,{"$f":"IF(C8=0,0,B8/SUMPRODUCT($B$8:$B$24,$C$8:$C$24))","v":0},{"$f":"IF(E28>=1,$D8,0)","v":{"$error":"#REF!"}},{"$error":"#REF!"},{"$error":"#REF!"},{"$f":"IF(H28>=1,$D8,0)","v":{"$error":"#REF!"}},{"$error":"#REF!"},{"$error":"#REF!"},{"$error":"#REF!"},{"$error":"#REF!"},{"$error":"#REF!"},{"$error":"#REF!"},{"$error":"#REF!"},{"$error":"#REF!"}]
["Churchill",9.1862738408503564E-3,0,0,{"$f":"IF(E29>=1,$D9,0)","v":{"$error":"#REF!"}},{"$error":"#REF!"},{"$error":"#REF!"},{"$f":"IF(H29>=1,$D9,0)","v":{"$error":"#REF!"}},{"$error":"#REF!"},{"$error":"#REF!"},{"$error":"#REF!"},{"$error":"#REF!"},{"$error":"#REF!"},{"$error":"#REF!"},{"$error":"#REF!"},{"$error":"#REF!"}]
["Clark",0.72358742312632862,0,0,{"$f":"IF(E30>=1,$D10,0)","v":{"$error":"#REF!"}},{"$error":"#REF!"},{"$error":"#REF!"},{"$f":"IF(H30>=1,$D10,0)","v":{"$error":"#REF!"}},{"$error":"#REF!"},{"$error":"#REF!"},{"$error":"#REF!"},{"$error":"#REF!"},{"$error":"#REF!"},{"$error":"#REF!"},{"$error":"#REF!"},{"$error":"#REF!"}]
["Douglas",1.7886756517018258E-2,0,0,{"$f":"IF(E31>=1,$D11,0)","v":{"$error":"#REF!"}},{"$error":"#REF!"},{"$error":"#REF!"},{"$f":"IF(H31>=1,$D11,0)","v":{"$error":"#REF!"}},{"$error":"#REF!"},{"$error":"#REF!"},{"$error":"#REF!"},{"$error":"#REF!"},{"$error":"#REF!"},{"$error":"#REF!"},{"$error":"#REF!"},{"$error":"#REF!"}]
["Elko",1.660182034478563E-2,0,0,{"$f":"IF(E32>=1,$D12,0)","v":{"$error":"#REF!"}},{"$error":"#REF!"},{"$error":"#REF!"},{"$f":"IF(H32>=1,$D12,0)","v":{"$error":"#REF!"}},{"$error":"#REF!"},{"$error":"#REF!"},{"$error":"#REF!"},{"$error":"#REF!"},{"$error":"#REF!"},{"$error":"#REF!"},{"$error":"#REF!"},{"$error":"#REF!"}]
["Esmeralda",2.9926219076240263E-4,0,0,{"$f":"IF(E33>=1,$D13,0)","v":{"$error":"#REF!"}},{"$error":"#REF!"},{"$error":"#REF!"},{"$f":"IF(H33>=1,$D13,0)","v":{"$error":"#REF!"}},{"$error":"#REF!"},{"$error":"#REF!"},{"$error":"#REF!"},{"$error":"#REF!"},{"$error":"#REF!"},{"$error":"#REF!"},{"$error":"#REF!"},{"$error":"#REF!"}]
["Eureka",7.0087427576324773E-4,0,0,{"$f":"IF(E34>=1,$D14,0)","v":{"$error":"#REF!"}},{"$error":"#REF!"},{"$error":"#REF!"},{"$f":"IF(H34>=1,$D14,0)","v":{"$error":"#REF!"}},{"$error":"#REF!"},{"$error":"#REF!"},{"$error":"#REF!"},{"$error":"#REF!"},{"$error":"#REF!"},{"$error":"#REF!"},{"$error":"#REF!"},{"$error":"#REF!"}]
["Humboldt",6.6278973178394325E-3,0,0,{"$f":"IF(E35>=1,$D15,0)","v":{"$error":"#REF!"}},{"$error":"#REF!"},{"$error":"#REF!"},{"$f":"IF(H35>=1,$D15,0)","v":{"$error":"#REF!"}},{"$error":"#REF!"},{"$error":"#REF!"},{"$error":"#REF!"},{"$error":"#REF!"},{"$error":"#REF!"},{"$error":"#REF!"},{"$error":"#REF!"},{"$error":"#REF!"}]
["Lander",2.1908810694228932E-3,0,0,{"$f":"IF(E36>=1,$D16,0)","v":{"$error":"#REF!"}},{"$error":"#REF!"},{"$error":"#REF!"},{"$f":"IF(H36>=1,$D16,0)","v":{"$error":"#REF!"}},{"$error":"#REF!"},{"$error":"#REF!"},{"$error":"#REF!"},{"$error":"#REF!"},{"$error":"#REF!"},{"$error":"#REF!"},{"$error":"#REF!"},{"$error":"#REF!"}]
["Lincoln",1.9828437843947542E-3,0,0,{"$f":"IF(E37>=1,$D17,0)","v":{"$error":"#REF!"}},{"$error":"#REF!"},{"$error":"#REF!"},{"$f":"IF(H37>=1,$D17,0)","v":{"$error":"#REF!"}},{"$error":"#REF!"},{"$error":"#REF!"},{"$error":"#REF!"},{"$error":"#REF!"},{"$error":"#REF!"},{"$error":"#REF!"},{"$error":"#REF!"},{"$error":"#REF!"}]
["Lyon",1.8524589191257816E-2,0,0,{"$f":"IF(E38>=1,$D18,0)","v":{"$error":"#REF!"}},{"$error":"#REF!"},{"$error":"#REF!"},{"$f":"IF(H38>=1,$D18,0)","v":{"$error":"#REF!"}},{"$error":"#REF!"},{"$error":"#REF!"},{"$error":"#REF!"},{"$error":"#REF!"},{"$error":"#REF!"},{"$error":"#REF!"},{"$error":"#REF!"},{"$error":"#REF!"}]
["Mineral",1.7621981790618801E-3,0,0,{"$f":"IF(E39>=1,$D19,0)","v":{"$error":"#REF!"}},{"$error":"#REF!"},{"$error":"#REF!"},{"$f":"IF(H39>=1,$D19,0)","v":{"$error":"#REF!"}},{"$error":"#REF!"},{"$error":"#REF!"},{"$error":"#REF!"},{"$error":"#REF!"},{"$error":"#REF!"},{"$error":"#REF!"},{"$error":"#REF!"},{"$error":"#REF!"}]
["Nye",1.6271408186211526E-2,0,0,{"$f":"IF(E40>=1,$D20,0)","v":{"$error":"#REF!"}},{"$error":"#REF!"},{"$error":"#REF!"},{"$f":"IF(H40>=1,$D20,0)","v":{"$error":"#REF!"}},{"$error":"#REF!"},{"$error":"#REF!"},{"$error":"#REF!"},{"$error":"#REF!"},{"$error":"#REF!"},{"$error":"#REF!"},{"$error":"#REF!"},{"$error":"#REF!"}]
["Pershing",2.0536728778713575E-3,0,0,{"$f":"IF(E41>=1,$D21,0)","v":{"$error":"#REF!"}},{"$error":"#REF!"},{"$error":"#REF!"},{"$f":"IF(H41>=1,$D21,0)","v":{"$error":"#REF!"}},{"$error":"#REF!"},{"$error":"#REF!"},{"$error":"#REF!"},{"$error":"#REF!"},{"$error":"#REF!"},{"$error":"#REF!"},{"$error":"#REF!"},{"$error":"#REF!"}]
["Storey",3.5117880378190242E-4,0,0,{"$f":"IF(E42>=1,$D22,0)","v":{"$error":"#REF!"}},{"$error":"#REF!"},{"$error":"#REF!"},{"$f":"IF(H42>=1,$D22,0)","v":{"$error":"#REF!"}},{"$error":"#REF!"},{"$error":"#REF!"},{"$error":"#REF!"},{"$error":"#REF!"},{"$error":"#REF!"},{"$error":"#REF!"},{"$error":"#REF!"},{"$error":"#REF!"}]
["Washoe",0.15718792923913963,0,0,{"$f":"IF(E43>=1,$D23,0)","v":{"$error":"#REF!"}},{"$error":"#REF!"},{"$error":"#REF!"},{"$f":"IF(H43>=1,$D23,0)","v":{"$error":"#REF!"}},{"$error":"#REF!"},{"$error":"#REF!"},{"$error":"#REF!"},{"$error":"#REF!"},{"$error":"#REF!"},{"$error":"#REF!"},{"$error":"#REF!"},{"$error":"#REF!"}]
["White Pine",3.7035086730410347E-3,0,0,{"$f":"IF(E44>=1,$D24,0)","v":{"$error":"#REF!"}},{"$error":"#REF!"},{"$error":"#REF!"},{"$f":"IF(H44>=1,$D24,0)","v":{"$error":"#REF!"}},{"$error":"#REF!"},{"$error":"#REF!"},{"$error":"#REF!"},{"$error":"#REF!"},{"$error":"#REF!"},{"$error":"#REF!"},{"$error":"#REF!"},{"$error":"#REF!"}]
[]
[null,null,null,null,"PY 2021 Provider Counts"]
["County","Population Weight","Included","Adjusted Population Weight","Primary Care","Endrocrinology","Infectious Diseases","Psychiatry","Licensed Clinical Social Workers","Psychology","Oncology - Medical / Surgery","Oncology - Radiation Oncology","Pediatrics","Rheumatology","Hospitals","Outpatient Dialysis"]
["Carson City",2.1081482382468184E-2,{"$f":"C8","v":0},{"$f":"D8","v":0},{"$f":"INDIRECT(\"'\"&$R$1&\"'!F\"&'Specialty Codes'!$F34+3)","v":{"$error":"#REF!"}},{"$f":"INDIRECT(\"'\"&$R$1&\"'!F\"&'Specialty Codes'!$F34+9)","v":{"$error":"#REF!"}},{"$f":"INDIRECT(\"'\"&$R$1&\"'!F\"&'Specialty Codes'!$F34+10)","v":{"$error":"#REF!"}},{"$f":"INDIRECT(\"'\"&$R$1&\"'!F\"&'Specialty Codes'!$F34+11)","v":{"$error":"#REF!"}},{"$f":"INDIRECT(\"'\"&$R$1&\"'!F\"&'Specialty Codes'!$F34+12)","v":{"$error":"#REF!"}},{"$f":"INDIRECT(\"'\"&$R$1&\"'!F\"&'Specialty Codes'!$F34+13)","v":{"$error":"#REF!"}},{"$f":"INDIRECT(\"'\"&$R$1&\"'!F\"&'Specialty Codes'!$F34+14)","v":{"$error":"#REF!"}},{"$f":"INDIRECT(\"'\"&$R$1&\"'!F\"&'Specialty Codes'!$F34+15)","v":{"$error":"#REF!"}},{"$f":"INDIRECT(\"'\"&$R$1&\"'!F\"&'Specialty Codes'!$F34+16)","v":{"$error":"#REF!"}},{"$f":"INDIRECT(\"'\"&$R$1&\"'!F\"&'Specialty Codes'!$F34+17)","v":{"$error":"#REF!"}},{"$f":"INDIRECT(\"'\"&$R$1&\"'!F\"&'Specialty Codes'!$F34+18)","v":{"$error":"#REF!"}},{"$f":"INDIRECT(\"'\"&$R$1&\"'!F\"&'Specialty Codes'!$F34+20)","v":{"$error":"#REF!"}}]
["Churchill",9.1862738408503564E-3,{"$f":"C9","v":0},0,{"$f":"INDIRECT(\"'\"&$R$1&\"'!F\"&'Specialty Codes'!$F35+3)","v":{"$error":"#REF!"}},{"$f":"INDIRECT(\"'\"&$R$1&\"'!F\"&'Specialty Codes'!$F35+9)","v":{"$error":"#REF!"}},{"$f":"INDIRECT(\"'\"&$R$1&\"'!F\"&'Specialty Codes'!$F35+10)","v":{"$error":"#REF!"}},{"$f":"INDIRECT(\"'\"&$R$1&\"'!F\"&'Specialty Codes'!$F35+11)","v":{"$error":"#REF!"}},{"$f":"INDIRECT(\"'\"&$R$1&\"'!F\"&'Specialty Codes'!$F35+12)","v":{"$error":"#REF!"}},{"$f":"INDIRECT(\"'\"&$R$1&\"'!F\"&'Specialty Codes'!$F35+13)","v":{"$error":"#REF!"}},{"$f":"INDIRECT(\"'\"&$R$1&\"'!F\"&'Specialty Codes'!$F35+14)","v":{"$error":"#REF!"}},{"$f":"INDIRECT(\"'\"&$R$1&\"'!F\"&'Specialty Codes'!$F35+15)","v":{"$error":"#REF!"}},{"$f":"INDIRECT(\"'\"&$R$1&\"'!F\"&'Specialty Codes'!$F35+16)","v":{"$error":"#REF!"}},{"$f":"INDIRECT(\"'\"&$R$1&\"'!F\"&'Specialty Codes'!$F35+17)","v":{"$error":"#REF!"}},{"$f":"INDIRECT(\"'\"&$R$1&\"'!F\"&'Specialty Codes'!$F35+18)","v":{"$error":"#REF!"}},{"$f":"INDIRECT(\"'\"&$R$1&\"'!F\"&'Specialty Codes'!$F35+20)","v":{"$error":"#REF!"}}]
["Clark",0.72358742312632862,{"$f":"C10","v":0},0,{"$f":"INDIRECT(\"'\"&$R$1&\"'!F\"&'Specialty Codes'!$F36+3)","v":{"$error":"#REF!"}},{"$f":"INDIRECT(\"'\"&$R$1&\"'!F\"&'Specialty Codes'!$F36+9)","v":{"$error":"#REF!"}},{"$f":"INDIRECT(\"'\"&$R$1&\"'!F\"&'Specialty Codes'!$F36+10)","v":{"$error":"#REF!"}},{"$f":"INDIRECT(\"'\"&$R$1&\"'!F\"&'Specialty Codes'!$F36+11)","v":{"$error":"#REF!"}},{"$f":"INDIRECT(\"'\"&$R$1&\"'!F\"&'Specialty Codes'!$F36+12)","v":{"$error":"#REF!"}},{"$f":"INDIRECT(\"'\"&$R$1&\"'!F\"&'Specialty Codes'!$F36+13)","v":{"$error":"#REF!"}},{"$f":"INDIRECT(\"'\"&$R$1&\"'!F\"&'Specialty Codes'!$F36+14)","v":{"$error":"#REF!"}},{"$f":"INDIRECT(\"'\"&$R$1&\"'!F\"&'Specialty Codes'!$F36+15)","v":{"$error":"#REF!"}},{"$f":"INDIRECT(\"'\"&$R$1&\"'!F\"&'Specialty Codes'!$F36+16)","v":{"$error":"#REF!"}},{"$f":"INDIRECT(\"'\"&$R$1&\"'!F\"&'Specialty Codes'!$F36+17)","v":{"$error":"#REF!"}},{"$f":"INDIRECT(\"'\"&$R$1&\"'!F\"&'Specialty Codes'!$F36+18)","v":{"$error":"#REF!"}},{"$f":"INDIRECT(\"'\"&$R$1&\"'!F\"&'Specialty Codes'!$F36+20)","v":{"$error":"#REF!"}}]
["Douglas",1.7886756517018258E-2,{"$f":"C11","v":0},0,{"$f":"INDIRECT(\"'\"&$R$1&\"'!F\"&'Specialty Codes'!$F37+3)","v":{"$error":"#REF!"}},{"$f":"INDIRECT(\"'\"&$R$1&\"'!F\"&'Specialty Codes'!$F37+9)","v":{"$error":"#REF!"}},{"$f":"INDIRECT(\"'\"&$R$1&\"'!F\"&'Specialty Codes'!$F37+10)","v":{"$error":"#REF!"}},{"$f":"INDIRECT(\"'\"&$R$1&\"'!F\"&'Specialty Codes'!$F37+11)","v":{"$error":"#REF!"}},{"$f":"INDIRECT(\"'\"&$R$1&\"'!F\"&'Specialty Codes'!$F37+12)","v":{"$error":"#REF!"}},{"$f":"INDIRECT(\"'\"&$R$1&\"'!F\"&'Specialty Codes'!$F37+13)","v":{"$error":"#REF!"}},{"$f":"INDIRECT(\"'\"&$R$1&\"'!F\"&'Specialty Codes'!$F37+14)","v":{"$error":"#REF!"}},{"$f":"INDIRECT(\"'\"&$R$1&\"'!F\"&'Specialty Codes'!$F37+15)","v":{"$error":"#REF!"}},{"$f":"INDIRECT(\"'\"&$R$1&\"'!F\"&'Specialty Codes'!$F37+16)","v":{"$error":"#REF!"}},{"$f":"INDIRECT(\"'\"&$R$1&\"'!F\"&'Specialty Codes'!$F37+17)","v":{"$error":"#REF!"}},{"$f":"INDIRECT(\"'\"&$R$1&\"'!F\"&'Specialty Codes'!$F37+18)","v":{"$error":"#REF!"}},{"$f":"INDIRECT(\"'\"&$R$1&\"'!F\"&'Specialty Codes'!$F37+20)","v":{"$error":"#REF!"}}]
["Elko",1.660182034478563E-2,{"$f":"C12","v":0},0,{"$f":"INDIRECT(\"'\"&$R$1&\"'!F\"&'Specialty Codes'!$F38+3)","v":{"$error":"#REF!"}},{"$f":"INDIRECT(\"'\"&$R$1&\"'!F\"&'Specialty Codes'!$F38+9)","v":{"$error":"#REF!"}},{"$f":"INDIRECT(\"'\"&$R$1&\"'!F\"&'Specialty Codes'!$F38+10)","v":{"$error":"#REF!"}},{"$f":"INDIRECT(\"'\"&$R$1&\"'!F\"&'Specialty Codes'!$F38+11)","v":{"$error":"#REF!"}},{"$f":"INDIRECT(\"'\"&$R$1&\"'!F\"&'Specialty Codes'!$F38+12)","v":{"$error":"#REF!"}},{"$f":"INDIRECT(\"'\"&$R$1&\"'!F\"&'Specialty Codes'!$F38+13)","v":{"$error":"#REF!"}},{"$f":"INDIRECT(\"'\"&$R$1&\"'!F\"&'Specialty Codes'!$F38+14)","v":{"$error":"#REF!"}},{"$f":"INDIRECT(\"'\"&$R$1&\"'!F\"&'Specialty Codes'!$F38+15)","v":{"$error":"#REF!"}},{"$f":"INDIRECT(\"'\"&$R$1&\"'!F\"&'Specialty Codes'!$F38+16)","v":{"$error":"#REF!"}},{"$f":"INDIRECT(\"'\"&$R$1&\"'!F\"&'Specialty Codes'!$F38+17)","v":{"$error":"#REF!"}},{"$f":"INDIRECT(\"'\"&$R$1&\"'!F\"&'Specialty Codes'!$F38+18)","v":{"$error":"#REF!"}},{"$f":"INDIRECT(\"'\"&$R$1&\"'!F\"&'Specialty Codes'!$F38+20)","v":{"$error":"#REF!"}}]
["Esmeralda",2.9926219076240263E-4,{"$f":"C13","v":0},0,{"$f":"INDIRECT(\"'\"&$R$1&\"'!F\"&'Specialty Codes'!$F39+3)","v":{"$error":"#REF!"}},{"$f":"INDIRECT(\"'\"&$R$1&\"'!F\"&'Specialty Codes'!$F39+9)","v":{"$error":"#REF!"}},{"$f":"INDIRECT(\"'\"&$R$1&\"'!F\"&'Specialty Codes'!$F39+10)","v":{"$error":"#REF!"}},{"$f":"INDIRECT(\"'\"&$R$1&\"'!F\"&'Specialty Codes'!$F39+11)","v":{"$error":"#REF!"}},{"$f":"INDIRECT(\"'\"&$R$1&\"'!F\"&'Specialty Codes'!$F39+12)","v":{"$error":"#REF!"}},{"$f":"INDIRECT(\"'\"&$R$1&\"'!F\"&'Specialty Codes'!$F39+13)","v":{"$error":"#REF!"}},{"$f":"INDIRECT(\"'\"&$R$1&\"'!F\"&'Specialty Codes'!$F39+14)","v":{"$error":"#REF!"}},{"$f":"INDIRECT(\"'\"&$R$1&\"'!F\"&'Specialty Codes'!$F39+15)","v":{"$error":"#REF!"}},{"$f":"INDIRECT(\"'\"&$R$1&\"'!F\"&'Specialty Codes'!$F39+16)","v":{"$error":"#REF!"}},{"$f":"INDIRECT(\"'\"&$R$1&\"'!F\"&'Specialty Codes'!$F39+17)","v":{"$error":"#REF!"}},{"$f":"INDIRECT(\"'\"&$R$1&\"'!F\"&'Specialty Codes'!$F39+18)","v":{"$error":"#REF!"}},{"$f":"INDIRECT(\"'\"&$R$1&\"'!F\"&'Specialty Codes'!$F39+20)","v":{"$error":"#REF!"}}]
["Eureka",7.0087427576324773E-4,{"$f":"C14","v":0},0,{"$f":"INDIRECT(\"'\"&$R$1&\"'!F\"&'Specialty Codes'!$F40+3)","v":{"$error":"#REF!"}},{"$f":"INDIRECT(\"'\"&$R$1&\"'!F\"&'Specialty Codes'!$F40+9)","v":{"$error":"#REF!"}},{"$f":"INDIRECT(\"'\"&$R$1&\"'!F\"&'Specialty Codes'!$F40+10)","v":{"$error":"#REF!"}},{"$f":"INDIRECT(\"'\"&$R$1&\"'!F\"&'Specialty Codes'!$F40+11)","v":{"$error":"#REF!"}},{"$f":"INDIRECT(\"'\"&$R$1&\"'!F\"&'Specialty Codes'!$F40+12)","v":{"$error":"#REF!"}},{"$f":"INDIRECT(\"'\"&$R$1&\"'!F\"&'Specialty Codes'!$F40+13)","v":{"$error":"#REF!"}},{"$f":"INDIRECT(\"'\"&$R$1&\"'!F\"&'Specialty Codes'!$F40+14)","v":{"$error":"#REF!"}},{"$f":"INDIRECT(\"'\"&$R$1&\"'!F\"&'Specialty Codes'!$F40+15)","v":{"$error":"#REF!"}},{"$f":"INDIRECT(\"'\"&$R$1&\"'!F\"&'Specialty Codes'!$F40+16)","v":{"$error":"#REF!"}},{"$f":"INDIRECT(\"'\"&$R$1&\"'!F\"&'Specialty Codes'!$F40+17)","v":{"$error":"#REF!"}},{"$f":"INDIRECT(\"'\"&$R$1&\"'!F\"&'Specialty Codes'!$F40+18)","v":{"$error":"#REF!"}},{"$f":"INDIRECT(\"'\"&$R$1&\"'!F\"&'Specialty Codes'!$F40+20)","v":{"$error":"#REF!"}}]
["Humboldt",6.6278973178394325E-3,{"$f":"C15","v":0},0,{"$f":"INDIRECT(\"'\"&$R$1&\"'!F\"&'Specialty Codes'!$F41+3)","v":{"$error":"#REF!"}},{"$f":"INDIRECT(\"'\"&$R$1&\"'!F\"&'Specialty Codes'!$F41+9)","v":{"$error":"#REF!"}},{"$f":"INDIRECT(\"'\"&$R$1&\"'!F\"&'Specialty Codes'!$F41+10)","v":{"$error":"#REF!"}},{"$f":"INDIRECT(\"'\"&$R$1&\"'!F\"&'Specialty Codes'!$F41+11)","v":{"$error":"#REF!"}},{"$f":"INDIRECT(\"'\"&$R$1&\"'!F\"&'Specialty Codes'!$F41+12)","v":{"$error":"#REF!"}},{"$f":"INDIRECT(\"'\"&$R$1&\"'!F\"&'Specialty Codes'!$F41+13)","v":{"$error":"#REF!"}},{"$f":"INDIRECT(\"'\"&$R$1&\"'!F\"&'Specialty Codes'!$F41+14)","v":{"$error":"#REF!"}},{"$f":"INDIRECT(\"'\"&$R$1&\"'!F\"&'Specialty Codes'!$F41+15)","v":{"$error":"#REF!"}},{"$f":"INDIRECT(\"'\"&$R$1&\"'!F\"&'Specialty Codes'!$F41+16)","v":{"$error":"#REF!"}},{"$f":"INDIRECT(\"'\"&$R$1&\"'!F\"&'Specialty Codes'!$F41+17)","v":{"$error":"#REF!"}},{"$f":"INDIRECT(\"'\"&$R$1&\"'!F\"&'Specialty Codes'!$F41+18)","v":{"$error":"#REF!"}},{"$f":"INDIRECT(\"'\"&$R$1&\"'!F\"&'Specialty Codes'!$F41+20)","v":{"$error":"#REF!"}}]
["Lander",2.1908810694228932E-3,{"$f":"C16","v":0},0,{"$f":"INDIRECT(\"'\"&$R$1&\"'!F\"&'Specialty Codes'!$F42+3)","v":{"$error":"#REF!"}},{"$f":"INDIRECT(\"'\"&$R$1&\"'!F\"&'Specialty Codes'!$F42+9)","v":{"$error":"#REF!"}},{"$f":"INDIRECT(\"'\"&$R$1&\"'!F\"&'Specialty Codes'!$F42+10)","v":{"$error":"#REF!"}},{"$f":"INDIRECT(\"'\"&$R$1&\"'!F\"&'Specialty Codes'!$F42+11)","v":{"$error":"#REF!"}},{"$f":"INDIRECT(\"'\"&$R$1&\"'!F\"&'Specialty Codes'!$F42+12)","v":{"$error":"#REF!"}},{"$f":"INDIRECT(\"'\"&$R$1&\"'!F\"&'Specialty Codes'!$F42+13)","v":{"$error":"#REF!"}},{"$f":"INDIRECT(\"'\"&$R$1&\"'!F\"&'Specialty Codes'!$F42+14)","v":{"$error":"#REF!"}},{"$f":"INDIRECT(\"'\"&$R$1&\"'!F\"&'Specialty Codes'!$F42+15)","v":{"$error":"#REF!"}},{"$f":"INDIRECT(\"'\"&$R$1&\"'!F\"&'Specialty Codes'!$F42+16)","v":{"$error":"#REF!"}},{"$f":"INDIRECT(\"'\"&$R$1&\"'!F\"&'Specialty Codes'!$F42+17)","v":{"$error":"#REF!"}},{"$f":"INDIRECT(\"'\"&$R$1&\"'!F\"&'Specialty Codes'!$F42+18)","v":{"$error":"#REF!"}},{"$f":"INDIRECT(\"'\"&$R$1&\"'!F\"&'Specialty Codes'!$F42+20)","v":{"$error":"#REF!"}}]
["Lincoln",1.9828437843947542E-3,{"$f":"C17","v":0},0,{"$f":"INDIRECT(\"'\"&$R$1&\"'!F\"&'Specialty Codes'!$F43+3)","v":{"$error":"#REF!"}},{"$f":"INDIRECT(\"'\"&$R$1&\"'!F\"&'Specialty Codes'!$F43+9)","v":{"$error":"#REF!"}},{"$f":"INDIRECT(\"'\"&$R$1&\"'!F\"&'Specialty Codes'!$F43+10)","v":{"$error":"#REF!"}},{"$f":"INDIRECT(\"'\"&$R$1&\"'!F\"&'Specialty Codes'!$F43+11)","v":{"$error":"#REF!"}},{"$f":"INDIRECT(\"'\"&$R$1&\"'!F\"&'Specialty Codes'!$F43+12)","v":{"$error":"#REF!"}},{"$f":"INDIRECT(\"'\"&$R$1&\"'!F\"&'Specialty Codes'!$F43+13)","v":{"$error":"#REF!"}},{"$f":"INDIRECT(\"'\"&$R$1&\"'!F\"&'Specialty Codes'!$F43+14)","v":{"$error":"#REF!"}},{"$f":"INDIRECT(\"'\"&$R$1&\"'!F\"&'Specialty Codes'!$F43+15)","v":{"$error":"#REF!"}},{"$f":"INDIRECT(\"'\"&$R$1&\"'!F\"&'Specialty Codes'!$F43+16)","v":{"$error":"#REF!"}},{"$f":"INDIRECT(\"'\"&$R$1&\"'!F\"&'Specialty Codes'!$F43+17)","v":{"$error":"#REF!"}},{"$f":"INDIRECT(\"'\"&$R$1&\"'!F\"&'Specialty Codes'!$F43+18)","v":{"$error":"#REF!"}},{"$f":"INDIRECT(\"'\"&$R$1&\"'!F\"&'Specialty Codes'!$F43+20)","v":{"$error":"#REF!"}}]
["Lyon",1.8524589191257816E-2,{"$f":"C18","v":0},0,{"$f":"INDIRECT(\"'\"&$R$1&\"'!F\"&'Specialty Codes'!$F44+3)","v":{"$error":"#REF!"}},{"$f":"INDIRECT(\"'\"&$R$1&\"'!F\"&'Specialty Codes'!$F44+9)","v":{"$error":"#REF!"}},{"$f":"INDIRECT(\"'\"&$R$1&\"'!F\"&'Specialty Codes'!$F44+10)","v":{"$error":"#REF!"}},{"$f":"INDIRECT(\"'\"&$R$1&\"'!F\"&'Specialty Codes'!$F44+11)","v":{"$error":"#REF!"}},{"$f":"INDIRECT(\"'\"&$R$1&\"'!F\"&'Specialty Codes'!$F44+12)","v":{"$error":"#REF!"}},{"$f":"INDIRECT(\"'\"&$R$1&\"'!F\"&'Specialty Codes'!$F44+13)","v":{"$error":"#REF!"}},{"$f":"INDIRECT(\"'\"&$R$1&\"'!F\"&'Specialty Codes'!$F44+14)","v":{"$error":"#REF!"}},{"$f":"INDIRECT(\"'\"&$R$1&\"'!F\"&'Specialty Codes'!$F44+15)","v":{"$error":"#REF!"}},{"$f":"INDIRECT(\"'\"&$R$1&\"'!F\"&'Specialty Codes'!$F44+16)","v":{"$error":"#REF!"}},{"$f":"INDIRECT(\"'\"&$R$1&\"'!F\"&'Specialty Codes'!$F44+17)","v":{"$error":"#REF!"}},{"$f":"INDIRECT(\"'\"&$R$1&\"'!F\"&'Specialty Codes'!$F44+18)","v":{"$error":"#REF!"}},{"$f":"INDIRECT(\"'\"&$R$1&\"'!F\"&'Specialty Codes'!$F44+20)","v":{"$error":"#REF!"}}]
["Mineral",1.7621981790618801E-3,{"$f":"C19","v":0},0,{"$f":"INDIRECT(\"'\"&$R$1&\"'!F\"&'Specialty Codes'!$F45+3)","v":{"$error":"#REF!"}},{"$f":"INDIRECT(\"'\"&$R$1&\"'!F\"&'Specialty Codes'!$F45+9)","v":{"$error":"#REF!"}},{"$f":"INDIRECT(\"'\"&$R$1&\"'!F\"&'Specialty Codes'!$F45+10)","v":{"$error":"#REF!"}},{"$f":"INDIRECT(\"'\"&$R$1&\"'!F\"&'Specialty Codes'!$F45+11)","v":{"$error":"#REF!"}},{"$f":"INDIRECT(\"'\"&$R$1&\"'!F\"&'Specialty Codes'!$F45+12)","v":{"$error":"#REF!"}},{"$f":"INDIRECT(\"'\"&$R$1&\"'!F\"&'Specialty Codes'!$F45+13)","v":{"$error":"#REF!"}},{"$f":"INDIRECT(\"'\"&$R$1&\"'!F\"&'Specialty Codes'!$F45+14)","v":{"$error":"#REF!"}},{"$f":"INDIRECT(\"'\"&$R$1&\"'!F\"&'Specialty Codes'!$F45+15)","v":{"$error":"#REF!"}},{"$f":"INDIRECT(\"'\"&$R$1&\"'!F\"&'Specialty Codes'!$F45+16)","v":{"$error":"#REF!"}},{"$f":"INDIRECT(\"'\"&$R$1&\"'!F\"&'Specialty Codes'!$F45+17)","v":{"$error":"#REF!"}},{"$f":"INDIRECT(\"'\"&$R$1&\"'!F\"&'Specialty Codes'!$F45+18)","v":{"$error":"#REF!"}},{"$f":"INDIRECT(\"'\"&$R$1&\"'!F\"&'Specialty Codes'!$F45+20)","v":{"$error":"#REF!"}}]
["Nye",1.6271408186211526E-2,{"$f":"C20","v":0},0,{"$f":"INDIRECT(\"'\"&$R$1&\"'!F\"&'Specialty Codes'!$F46+3)","v":{"$error":"#REF!"}},{"$f":"INDIRECT(\"'\"&$R$1&\"'!F\"&'Specialty Codes'!$F46+9)","v":{"$error":"#REF!"}},{"$f":"INDIRECT(\"'\"&$R$1&\"'!F\"&'Specialty Codes'!$F46+10)","v":{"$error":"#REF!"}},{"$f":"INDIRECT(\"'\"&$R$1&\"'!F\"&'Specialty Codes'!$F46+11)","v":{"$error":"#REF!"}},{"$f":"INDIRECT(\"'\"&$R$1&\"'!F\"&'Specialty Codes'!$F46+12)","v":{"$error":"#REF!"}},{"$f":"INDIRECT(\"'\"&$R$1&\"'!F\"&'Specialty Codes'!$F46+13)","v":{"$error":"#REF!"}},{"$f":"INDIRECT(\"'\"&$R$1&\"'!F\"&'Specialty Codes'!$F46+14)","v":{"$error":"#REF!"}},{"$f":"INDIRECT(\"'\"&$R$1&\"'!F\"&'Specialty Codes'!$F46+15)","v":{"$error":"#REF!"}},{"$f":"INDIRECT(\"'\"&$R$1&\"'!F\"&'Specialty Codes'!$F46+16)","v":{"$error":"#REF!"}},{"$f":"INDIRECT(\"'\"&$R$1&\"'!F\"&'Specialty Codes'!$F46+17)","v":{"$error":"#REF!"}},{"$f":"INDIRECT(\"'\"&$R$1&\"'!F\"&'Specialty Codes'!$F46+18)","v":{"$error":"#REF!"}},{"$f":"INDIRECT(\"'\"&$R$1&\"'!F\"&'Specialty Codes'!$F46+20)","v":{"$error":"#REF!"}}]
["Pershing",2.0536728778713575E-3,{"$f":"C21","v":0},0,{"$f":"INDIRECT(\"'\"&$R$1&\"'!F\"&'Specialty Codes'!$F47+3)","v":{"$error":"#REF!"}},{"$f":"INDIRECT(\"'\"&$R$1&\"'!F\"&'Specialty Codes'!$F47+9)","v":{"$error":"#REF!"}},{"$f":"INDIRECT(\"'\"&$R$1&\"'!F\"&'Specialty Codes'!$F47+10)","v":{"$error":"#REF!"}},{"$f":"INDIRECT(\"'\"&$R$1&\"'!F\"&'Specialty Codes'!$F47+11)","v":{"$error":"#REF!"}},{"$f":"INDIRECT(\"'\"&$R$1&\"'!F\"&'Specialty Codes'!$F47+12)","v":{"$error":"#REF!"}},{"$f":"INDIRECT(\"'\"&$R$1&\"'!F\"&'Specialty Codes'!$F47+13)","v":{"$error":"#REF!"}},{"$f":"INDIRECT(\"'\"&$R$1&\"'!F\"&'Specialty Codes'!$F47+14)","v":{"$error":"#REF!"}},{"$f":"INDIRECT(\"'\"&$R$1&\"'!F\"&'Specialty Codes'!$F47+15)","v":{"$error":"#REF!"}},{"$f":"INDIRECT(\"'\"&$R$1&\"'!F\"&'Specialty Codes'!$F47+16)","v":{"$error":"#REF!"}},{"$f":"INDIRECT(\"'\"&$R$1&\"'!F\"&'Specialty Codes'!$F47+17)","v":{"$error":"#REF!"}},{"$f":"INDIRECT(\"'\"&$R$1&\"'!F\"&'Specialty Codes'!$F47+18)","v":{"$error":"#REF!"}},{"$f":"INDIRECT(\"'\"&$R$1&\"'!F\"&'Specialty Codes'!$F47+20)","v":{"$error":"#REF!"}}]
["Storey",3.5117880378190242E-4,{"$f":"C22","v":0},0,{"$f":"INDIRECT(\"'\"&$R$1&\"'!F\"&'Specialty Codes'!$F48+3)","v":{"$error":"#REF!"}},{"$f":"INDIRECT(\"'\"&$R$1&\"'!F\"&'Specialty Codes'!$F48+9)","v":{"$error":"#REF!"}},{"$f":"INDIRECT(\"'\"&$R$1&\"'!F\"&'Specialty Codes'!$F48+10)","v":{"$error":"#REF!"}},{"$f":"INDIRECT(\"'\"&$R$1&\"'!F\"&'Specialty Codes'!$F48+11)","v":{"$error":"#REF!"}},{"$f":"INDIRECT(\"'\"&$R$1&\"'!F\"&'Specialty Codes'!$F48+12)","v":{"$error":"#REF!"}},{"$f":"INDIRECT(\"'\"&$R$1&\"'!F\"&'Specialty Codes'!$F48+13)","v":{"$error":"#REF!"}},{"$f":"INDIRECT(\"'\"&$R$1&\"'!F\"&'Specialty Codes'!$F48+14)","v":{"$error":"#REF!"}},{"$f":"INDIRECT(\"'\"&$R$1&\"'!F\"&'Specialty Codes'!$F48+15)","v":{"$error":"#REF!"}},{"$f":"INDIRECT(\"'\"&$R$1&\"'!F\"&'Specialty Codes'!$F48+16)","v":{"$error":"#REF!"}},{"$f":"INDIRECT(\"'\"&$R$1&\"'!F\"&'Specialty Codes'!$F48+17)","v":{"$error":"#REF!"}},{"$f":"INDIRECT(\"'\"&$R$1&\"'!F\"&'Specialty Codes'!$F48+18)","v":{"$error":"#REF!"}},{"$f":"INDIRECT(\"'\"&$R$1&\"'!F\"&'Specialty Codes'!$F48+20)","v":{"$error":"#REF!"}}]
["Washoe",0.15718792923913963,{"$f":"C23","v":0},0,{"$f":"INDIRECT(\"'\"&$R$1&\"'!F\"&'Specialty Codes'!$F49+3)","v":{"$error":"#REF!"}},{"$f":"INDIRECT(\"'\"&$R$1&\"'!F\"&'Specialty Codes'!$F49+9)","v":{"$error":"#REF!"}},{"$f":"INDIRECT(\"'\"&$R$1&\"'!F\"&'Specialty Codes'!$F49+10)","v":{"$error":"#REF!"}},{"$f":"INDIRECT(\"'\"&$R$1&\"'!F\"&'Specialty Codes'!$F49+11)","v":{"$error":"#REF!"}},{"$f":"INDIRECT(\"'\"&$R$1&\"'!F\"&'Specialty Codes'!$F49+12)","v":{"$error":"#REF!"}},{"$f":"INDIRECT(\"'\"&$R$1&\"'!F\"&'Specialty Codes'!$F49+13)","v":{"$error":"#REF!"}},{"$f":"INDIRECT(\"'\"&$R$1&\"'!F\"&'Specialty Codes'!$F49+14)","v":{"$error":"#REF!"}},{"$f":"INDIRECT(\"'\"&$R$1&\"'!F\"&'Specialty Codes'!$F49+15)","v":{"$error":"#REF!"}},{"$f":"INDIRECT(\"'\"&$R$1&\"'!F\"&'Specialty Codes'!$F49+16)","v":{"$error":"#REF!"}},{"$f":"INDIRECT(\"'\"&$R$1&\"'!F\"&'Specialty Codes'!$F49+17)","v":{"$error":"#REF!"}},{"$f":"INDIRECT(\"'\"&$R$1&\"'!F\"&'Specialty Codes'!$F49+18)","v":{"$error":"#REF!"}},{"$f":"INDIRECT(\"'\"&$R$1&\"'!F\"&'Specialty Codes'!$F49+20)","v":{"$error":"#REF!"}}]
["White Pine",3.7035086730410347E-3,{"$f":"C24","v":0},0,{"$f":"INDIRECT(\"'\"&$R$1&\"'!F\"&'Specialty Codes'!$F50+3)","v":{"$error":"#REF!"}},{"$f":"INDIRECT(\"'\"&$R$1&\"'!F\"&'Specialty Codes'!$F50+9)","v":{"$error":"#REF!"}},{"$f":"INDIRECT(\"'\"&$R$1&\"'!F\"&'Specialty Codes'!$F50+10)","v":{"$error":"#REF!"}},{"$f":"INDIRECT(\"'\"&$R$1&\"'!F\"&'Specialty Codes'!$F50+11)","v":{"$error":"#REF!"}},{"$f":"INDIRECT(\"'\"&$R$1&\"'!F\"&'Specialty Codes'!$F50+12)","v":{"$error":"#REF!"}},{"$f":"INDIRECT(\"'\"&$R$1&\"'!F\"&'Specialty Codes'!$F50+13)","v":{"$error":"#REF!"}},{"$f":"INDIRECT(\"'\"&$R$1&\"'!F\"&'Specialty Codes'!$F50+14)","v":{"$error":"#REF!"}},{"$f":"INDIRECT(\"'\"&$R$1&\"'!F\"&'Specialty Codes'!$F50+15)","v":{"$error":"#REF!"}},{"$f":"INDIRECT(\"'\"&$R$1&\"'!F\"&'Specialty Codes'!$F50+16)","v":{"$error":"#REF!"}},{"$f":"INDIRECT(\"'\"&$R$1&\"'!F\"&'Specialty Codes'!$F50+17)","v":{"$error":"#REF!"}},{"$f":"INDIRECT(\"'\"&$R$1&\"'!F\"&'Specialty Codes'!$F50+18)","v":{"$error":"#REF!"}},{"$f":"INDIRECT(\"'\"&$R$1&\"'!F\"&'Specialty Codes'!$F50+20)","v":{"$error":"#REF!"}}]
[]
[null,null,null,null,"Year over Year Change"]
["County","Population Weight","Included","Adjusted Population Weight","Primary Care","Endrocrinology","Infectious Diseases","Psychiatry","Licensed Clinical Social Workers","Psychology","Oncology - Medical / Surgery","Oncology - Radiation Oncology","Pediatrics","Rheumatology","Hospitals","Outpatient Dialysis"]
["Carson City",2.1081482382468184E-2,{"$f":"C8","v":0},{"$f":"D8","v":0},{"$f":"INDIRECT(\"'\"&$R$1&\"'!G\"&'Specialty Codes'!$F34+3)","v":{"$error":"#REF!"}},{"$f":"INDIRECT(\"'\"&$R$1&\"'!G\"&'Specialty Codes'!$F34+9)","v":{"$error":"#REF!"}},{"$f":"INDIRECT(\"'\"&$R$1&\"'!G\"&'Specialty Codes'!$F34+10)","v":{"$error":"#REF!"}},{"$f":"INDIRECT(\"'\"&$R$1&\"'!G\"&'Specialty Codes'!$F34+11)","v":{"$error":"#REF!"}},{"$f":"INDIRECT(\"'\"&$R$1&\"'!G\"&'Specialty Codes'!$F34+12)","v":{"$error":"#REF!"}},{"$f":"INDIRECT(\"'\"&$R$1&\"'!G\"&'Specialty Codes'!$F34+13)","v":{"$error":"#REF!"}},{"$f":"INDIRECT(\"'\"&$R$1&\"'!G\"&'Specialty Codes'!$F34+14)","v":{"$error":"#REF!"}},{"$f":"INDIRECT(\"'\"&$R$1&\"'!G\"&'Specialty Codes'!$F34+15)","v":{"$error":"#REF!"}},{"$f":"INDIRECT(\"'\"&$R$1&\"'!G\"&'Specialty Codes'!$F34+16)","v":{"$error":"#REF!"}},{"$f":"INDIRECT(\"'\"&$R$1&\"'!G\"&'Specialty Codes'!$F34+17)","v":{"$error":"#REF!"}},{"$f":"IF(INDIRECT(\"'\"&$R$1&\"'!G\"&'Specialty Codes'!$F34+18)=\"\",0,INDIRECT(\"'\"&$R$1&\"'!G\"&'Specialty Codes'!$F34+18))","v":{"$error":"#REF!"}},{"$f":"INDIRECT(\"'\"&$R$1&\"'!G\"&'Specialty Codes'!$F34+20)","v":{"$error":"#REF!"}}]
["Churchill",9.1862738408503564E-3,{"$f":"C9","v":0},0,{"$f":"INDIRECT(\"'\"&$R$1&\"'!G\"&'Specialty Codes'!$F35+3)","v":{"$error":"#REF!"}},{"$f":"INDIRECT(\"'\"&$R$1&\"'!G\"&'Specialty Codes'!$F35+9)","v":{"$error":"#REF!"}},{"$f":"INDIRECT(\"'\"&$R$1&\"'!G\"&'Specialty Codes'!$F35+10)","v":{"$error":"#REF!"}},{"$f":"INDIRECT(\"'\"&$R$1&\"'!G\"&'Specialty Codes'!$F35+11)","v":{"$error":"#REF!"}},{"$f":"INDIRECT(\"'\"&$R$1&\"'!G\"&'Specialty Codes'!$F35+12)","v":{"$error":"#REF!"}},{"$f":"INDIRECT(\"'\"&$R$1&\"'!G\"&'Specialty Codes'!$F35+13)","v":{"$error":"#REF!"}},{"$f":"INDIRECT(\"'\"&$R$1&\"'!G\"&'Specialty Codes'!$F35+14)","v":{"$error":"#REF!"}},{"$f":"INDIRECT(\"'\"&$R$1&\"'!G\"&'Specialty Codes'!$F35+15)","v":{"$error":"#REF!"}},{"$f":"INDIRECT(\"'\"&$R$1&\"'!G\"&'Specialty Codes'!$F35+16)","v":{"$error":"#REF!"}},{"$f":"INDIRECT(\"'\"&$R$1&\"'!G\"&'Specialty Codes'!$F35+17)","v":{"$error":"#REF!"}},{"$f":"IF(INDIRECT(\"'\"&$R$1&\"'!G\"&'Specialty Codes'!$F35+18)=\"\",0,INDIRECT(\"'\"&$R$1&\"'!G\"&'Specialty Codes'!$F35+18))","v":{"$error":"#REF!"}},{"$f":"INDIRECT(\"'\"&$R$1&\"'!G\"&'Specialty Codes'!$F35+20)","v":{"$error":"#REF!"}}]
["Clark",0.72358742312632862,{"$f":"C10","v":0},0,{"$f":"INDIRECT(\"'\"&$R$1&\"'!G\"&'Specialty Codes'!$F36+3)","v":{"$error":"#REF!"}},{"$f":"INDIRECT(\"'\"&$R$1&\"'!G\"&'Specialty Codes'!$F36+9)","v":{"$error":"#REF!"}},{"$f":"INDIRECT(\"'\"&$R$1&\"'!G\"&'Specialty Codes'!$F36+10)","v":{"$error":"#REF!"}},{"$f":"INDIRECT(\"'\"&$R$1&\"'!G\"&'Specialty Codes'!$F36+11)","v":{"$error":"#REF!"}},{"$f":"INDIRECT(\"'\"&$R$1&\"'!G\"&'Specialty Codes'!$F36+12)","v":{"$error":"#REF!"}},{"$f":"INDIRECT(\"'\"&$R$1&\"'!G\"&'Specialty Codes'!$F36+13)","v":{"$error":"#REF!"}},{"$f":"INDIRECT(\"'\"&$R$1&\"'!G\"&'Specialty Codes'!$F36+14)","v":{"$error":"#REF!"}},{"$f":"INDIRECT(\"'\"&$R$1&\"'!G\"&'Specialty Codes'!$F36+15)","v":{"$error":"#REF!"}},{"$f":"INDIRECT(\"'\"&$R$1&\"'!G\"&'Specialty Codes'!$F36+16)","v":{"$error":"#REF!"}},{"$f":"INDIRECT(\"'\"&$R$1&\"'!G\"&'Specialty Codes'!$F36+17)","v":{"$error":"#REF!"}},{"$f":"IF(INDIRECT(\"'\"&$R$1&\"'!G\"&'Specialty Codes'!$F36+18)=\"\",0,INDIRECT(\"'\"&$R$1&\"'!G\"&'Specialty Codes'!$F36+18))","v":{"$error":"#REF!"}},{"$f":"INDIRECT(\"'\"&$R$1&\"'!G\"&'Specialty Codes'!$F36+20)","v":{"$error":"#REF!"}}]
["Douglas",1.7886756517018258E-2,{"$f":"C11","v":0},0,{"$f":"INDIRECT(\"'\"&$R$1&\"'!G\"&'Specialty Codes'!$F37+3)","v":{"$error":"#REF!"}},{"$f":"INDIRECT(\"'\"&$R$1&\"'!G\"&'Specialty Codes'!$F37+9)","v":{"$error":"#REF!"}},{"$f":"INDIRECT(\"'\"&$R$1&\"'!G\"&'Specialty Codes'!$F37+10)","v":{"$error":"#REF!"}},{"$f":"INDIRECT(\"'\"&$R$1&\"'!G\"&'Specialty Codes'!$F37+11)","v":{"$error":"#REF!"}},{"$f":"INDIRECT(\"'\"&$R$1&\"'!G\"&'Specialty Codes'!$F37+12)","v":{"$error":"#REF!"}},{"$f":"INDIRECT(\"'\"&$R$1&\"'!G\"&'Specialty Codes'!$F37+13)","v":{"$error":"#REF!"}},{"$f":"INDIRECT(\"'\"&$R$1&\"'!G\"&'Specialty Codes'!$F37+14)","v":{"$error":"#REF!"}},{"$f":"INDIRECT(\"'\"&$R$1&\"'!G\"&'Specialty Codes'!$F37+15)","v":{"$error":"#REF!"}},{"$f":"INDIRECT(\"'\"&$R$1&\"'!G\"&'Specialty Codes'!$F37+16)","v":{"$error":"#REF!"}},{"$f":"INDIRECT(\"'\"&$R$1&\"'!G\"&'Specialty Codes'!$F37+17)","v":{"$error":"#REF!"}},{"$f":"IF(INDIRECT(\"'\"&$R$1&\"'!G\"&'Specialty Codes'!$F37+18)=\"\",0,INDIRECT(\"'\"&$R$1&\"'!G\"&'Specialty Codes'!$F37+18))","v":{"$error":"#REF!"}},{"$f":"INDIRECT(\"'\"&$R$1&\"'!G\"&'Specialty Codes'!$F37+20)","v":{"$error":"#REF!"}}]
["Elko",1.660182034478563E-2,{"$f":"C12","v":0},0,{"$f":"INDIRECT(\"'\"&$R$1&\"'!G\"&'Specialty Codes'!$F38+3)","v":{"$error":"#REF!"}},{"$f":"INDIRECT(\"'\"&$R$1&\"'!G\"&'Specialty Codes'!$F38+9)","v":{"$error":"#REF!"}},{"$f":"INDIRECT(\"'\"&$R$1&\"'!G\"&'Specialty Codes'!$F38+10)","v":{"$error":"#REF!"}},{"$f":"INDIRECT(\"'\"&$R$1&\"'!G\"&'Specialty Codes'!$F38+11)","v":{"$error":"#REF!"}},{"$f":"INDIRECT(\"'\"&$R$1&\"'!G\"&'Specialty Codes'!$F38+12)","v":{"$error":"#REF!"}},{"$f":"INDIRECT(\"'\"&$R$1&\"'!G\"&'Specialty Codes'!$F38+13)","v":{"$error":"#REF!"}},{"$f":"INDIRECT(\"'\"&$R$1&\"'!G\"&'Specialty Codes'!$F38+14)","v":{"$error":"#REF!"}},{"$f":"INDIRECT(\"'\"&$R$1&\"'!G\"&'Specialty Codes'!$F38+15)","v":{"$error":"#REF!"}},{"$f":"INDIRECT(\"'\"&$R$1&\"'!G\"&'Specialty Codes'!$F38+16)","v":{"$error":"#REF!"}},{"$f":"INDIRECT(\"'\"&$R$1&\"'!G\"&'Specialty Codes'!$F38+17)","v":{"$error":"#REF!"}},{"$f":"IF(INDIRECT(\"'\"&$R$1&\"'!G\"&'Specialty Codes'!$F38+18)=\"\",0,INDIRECT(\"'\"&$R$1&\"'!G\"&'Specialty Codes'!$F38+18))","v":{"$error":"#REF!"}},{"$f":"INDIRECT(\"'\"&$R$1&\"'!G\"&'Specialty Codes'!$F38+20)","v":{"$error":"#REF!"}}]
["Esmeralda",2.9926219076240263E-4,{"$f":"C13","v":0},0,{"$f":"INDIRECT(\"'\"&$R$1&\"'!G\"&'Specialty Codes'!$F39+3)","v":{"$error":"#REF!"}},{"$f":"INDIRECT(\"'\"&$R$1&\"'!G\"&'Specialty Codes'!$F39+9)","v":{"$error":"#REF!"}},{"$f":"INDIRECT(\"'\"&$R$1&\"'!G\"&'Specialty Codes'!$F39+10)","v":{"$error":"#REF!"}},{"$f":"INDIRECT(\"'\"&$R$1&\"'!G\"&'Specialty Codes'!$F39+11)","v":{"$error":"#REF!"}},{"$f":"INDIRECT(\"'\"&$R$1&\"'!G\"&'Specialty Codes'!$F39+12)","v":{"$error":"#REF!"}},{"$f":"INDIRECT(\"'\"&$R$1&\"'!G\"&'Specialty Codes'!$F39+13)","v":{"$error":"#REF!"}},{"$f":"INDIRECT(\"'\"&$R$1&\"'!G\"&'Specialty Codes'!$F39+14)","v":{"$error":"#REF!"}},{"$f":"INDIRECT(\"'\"&$R$1&\"'!G\"&'Specialty Codes'!$F39+15)","v":{"$error":"#REF!"}},{"$f":"INDIRECT(\"'\"&$R$1&\"'!G\"&'Specialty Codes'!$F39+16)","v":{"$error":"#REF!"}},{"$f":"INDIRECT(\"'\"&$R$1&\"'!G\"&'Specialty Codes'!$F39+17)","v":{"$error":"#REF!"}},{"$f":"IF(INDIRECT(\"'\"&$R$1&\"'!G\"&'Specialty Codes'!$F39+18)=\"\",0,INDIRECT(\"'\"&$R$1&\"'!G\"&'Specialty Codes'!$F39+18))","v":{"$error":"#REF!"}},{"$f":"INDIRECT(\"'\"&$R$1&\"'!G\"&'Specialty Codes'!$F39+20)","v":{"$error":"#REF!"}}]
["Eureka",7.0087427576324773E-4,{"$f":"C14","v":0},0,{"$f":"INDIRECT(\"'\"&$R$1&\"'!G\"&'Specialty Codes'!$F40+3)","v":{"$error":"#REF!"}},{"$f":"INDIRECT(\"'\"&$R$1&\"'!G\"&'Specialty Codes'!$F40+9)","v":{"$error":"#REF!"}},{"$f":"INDIRECT(\"'\"&$R$1&\"'!G\"&'Specialty Codes'!$F40+10)","v":{"$error":"#REF!"}},{"$f":"INDIRECT(\"'\"&$R$1&\"'!G\"&'Specialty Codes'!$F40+11)","v":{"$error":"#REF!"}},{"$f":"INDIRECT(\"'\"&$R$1&\"'!G\"&'Specialty Codes'!$F40+12)","v":{"$error":"#REF!"}},{"$f":"INDIRECT(\"'\"&$R$1&\"'!G\"&'Specialty Codes'!$F40+13)","v":{"$error":"#REF!"}},{"$f":"INDIRECT(\"'\"&$R$1&\"'!G\"&'Specialty Codes'!$F40+14)","v":{"$error":"#REF!"}},{"$f":"INDIRECT(\"'\"&$R$1&\"'!G\"&'Specialty Codes'!$F40+15)","v":{"$error":"#REF!"}},{"$f":"INDIRECT(\"'\"&$R$1&\"'!G\"&'Specialty Codes'!$F40+16)","v":{"$error":"#REF!"}},{"$f":"INDIRECT(\"'\"&$R$1&\"'!G\"&'Specialty Codes'!$F40+17)","v":{"$error":"#REF!"}},{"$f":"IF(INDIRECT(\"'\"&$R$1&\"'!G\"&'Specialty Codes'!$F40+18)=\"\",0,INDIRECT(\"'\"&$R$1&\"'!G\"&'Specialty Codes'!$F40+18))","v":{"$error":"#REF!"}},{"$f":"INDIRECT(\"'\"&$R$1&\"'!G\"&'Specialty Codes'!$F40+20)","v":{"$error":"#REF!"}}]
["Humboldt",6.6278973178394325E-3,{"$f":"C15","v":0},0,{"$f":"INDIRECT(\"'\"&$R$1&\"'!G\"&'Specialty Codes'!$F41+3)","v":{"$error":"#REF!"}},{"$f":"INDIRECT(\"'\"&$R$1&\"'!G\"&'Specialty Codes'!$F41+9)","v":{"$error":"#REF!"}},{"$f":"INDIRECT(\"'\"&$R$1&\"'!G\"&'Specialty Codes'!$F41+10)","v":{"$error":"#REF!"}},{"$f":"INDIRECT(\"'\"&$R$1&\"'!G\"&'Specialty Codes'!$F41+11)","v":{"$error":"#REF!"}},{"$f":"INDIRECT(\"'\"&$R$1&\"'!G\"&'Specialty Codes'!$F41+12)","v":{"$error":"#REF!"}},{"$f":"INDIRECT(\"'\"&$R$1&\"'!G\"&'Specialty Codes'!$F41+13)","v":{"$error":"#REF!"}},{"$f":"INDIRECT(\"'\"&$R$1&\"'!G\"&'Specialty Codes'!$F41+14)","v":{"$error":"#REF!"}},{"$f":"INDIRECT(\"'\"&$R$1&\"'!G\"&'Specialty Codes'!$F41+15)","v":{"$error":"#REF!"}},{"$f":"INDIRECT(\"'\"&$R$1&\"'!G\"&'Specialty Codes'!$F41+16)","v":{"$error":"#REF!"}},{"$f":"INDIRECT(\"'\"&$R$1&\"'!G\"&'Specialty Codes'!$F41+17)","v":{"$error":"#REF!"}},{"$f":"IF(INDIRECT(\"'\"&$R$1&\"'!G\"&'Specialty Codes'!$F41+18)=\"\",0,INDIRECT(\"'\"&$R$1&\"'!G\"&'Specialty Codes'!$F41+18))","v":{"$error":"#REF!"}},{"$f":"INDIRECT(\"'\"&$R$1&\"'!G\"&'Specialty Codes'!$F41+20)","v":{"$error":"#REF!"}}]
["Lander",2.1908810694228932E-3,{"$f":"C16","v":0},0,{"$f":"INDIRECT(\"'\"&$R$1&\"'!G\"&'Specialty Codes'!$F42+3)","v":{"$error":"#REF!"}},{"$f":"INDIRECT(\"'\"&$R$1&\"'!G\"&'Specialty Codes'!$F42+9)","v":{"$error":"#REF!"}},{"$f":"INDIRECT(\"'\"&$R$1&\"'!G\"&'Specialty Codes'!$F42+10)","v":{"$error":"#REF!"}},{"$f":"INDIRECT(\"'\"&$R$1&\"'!G\"&'Specialty Codes'!$F42+11)","v":{"$error":"#REF!"}},{"$f":"INDIRECT(\"'\"&$R$1&\"'!G\"&'Specialty Codes'!$F42+12)","v":{"$error":"#REF!"}},{"$f":"INDIRECT(\"'\"&$R$1&\"'!G\"&'Specialty Codes'!$F42+13)","v":{"$error":"#REF!"}},{"$f":"INDIRECT(\"'\"&$R$1&\"'!G\"&'Specialty Codes'!$F42+14)","v":{"$error":"#REF!"}},{"$f":"INDIRECT(\"'\"&$R$1&\"'!G\"&'Specialty Codes'!$F42+15)","v":{"$error":"#REF!"}},{"$f":"INDIRECT(\"'\"&$R$1&\"'!G\"&'Specialty Codes'!$F42+16)","v":{"$error":"#REF!"}},{"$f":"INDIRECT(\"'\"&$R$1&\"'!G\"&'Specialty Codes'!$F42+17)","v":{"$error":"#REF!"}},{"$f":"IF(INDIRECT(\"'\"&$R$1&\"'!G\"&'Specialty Codes'!$F42+18)=\"\",0,INDIRECT(\"'\"&$R$1&\"'!G\"&'Specialty Codes'!$F42+18))","v":{"$error":"#REF!"}},{"$f":"INDIRECT(\"'\"&$R$1&\"'!G\"&'Specialty Codes'!$F42+20)","v":{"$error":"#REF!"}}]
["Lincoln",1.9828437843947542E-3,{"$f":"C17","v":0},0,{"$f":"INDIRECT(\"'\"&$R$1&\"'!G\"&'Specialty Codes'!$F43+3)","v":{"$error":"#REF!"}},{"$f":"INDIRECT(\"'\"&$R$1&\"'!G\"&'Specialty Codes'!$F43+9)","v":{"$error":"#REF!"}},{"$f":"INDIRECT(\"'\"&$R$1&\"'!G\"&'Specialty Codes'!$F43+10)","v":{"$error":"#REF!"}},{"$f":"INDIRECT(\"'\"&$R$1&\"'!G\"&'Specialty Codes'!$F43+11)","v":{"$error":"#REF!"}},{"$f":"INDIRECT(\"'\"&$R$1&\"'!G\"&'Specialty Codes'!$F43+12)","v":{"$error":"#REF!"}},{"$f":"INDIRECT(\"'\"&$R$1&\"'!G\"&'Specialty Codes'!$F43+13)","v":{"$error":"#REF!"}},{"$f":"INDIRECT(\"'\"&$R$1&\"'!G\"&'Specialty Codes'!$F43+14)","v":{"$error":"#REF!"}},{"$f":"INDIRECT(\"'\"&$R$1&\"'!G\"&'Specialty Codes'!$F43+15)","v":{"$error":"#REF!"}},{"$f":"INDIRECT(\"'\"&$R$1&\"'!G\"&'Specialty Codes'!$F43+16)","v":{"$error":"#REF!"}},{"$f":"INDIRECT(\"'\"&$R$1&\"'!G\"&'Specialty Codes'!$F43+17)","v":{"$error":"#REF!"}},{"$f":"IF(INDIRECT(\"'\"&$R$1&\"'!G\"&'Specialty Codes'!$F43+18)=\"\",0,INDIRECT(\"'\"&$R$1&\"'!G\"&'Specialty Codes'!$F43+18))","v":{"$error":"#REF!"}},{"$f":"INDIRECT(\"'\"&$R$1&\"'!G\"&'Specialty Codes'!$F43+20)","v":{"$error":"#REF!"}}]
["Lyon",1.8524589191257816E-2,{"$f":"C18","v":0},0,{"$f":"INDIRECT(\"'\"&$R$1&\"'!G\"&'Specialty Codes'!$F44+3)","v":{"$error":"#REF!"}},{"$f":"INDIRECT(\"'\"&$R$1&\"'!G\"&'Specialty Codes'!$F44+9)","v":{"$error":"#REF!"}},{"$f":"INDIRECT(\"'\"&$R$1&\"'!G\"&'Specialty Codes'!$F44+10)","v":{"$error":"#REF!"}},{"$f":"INDIRECT(\"'\"&$R$1&\"'!G\"&'Specialty Codes'!$F44+11)","v":{"$error":"#REF!"}},{"$f":"INDIRECT(\"'\"&$R$1&\"'!G\"&'Specialty Codes'!$F44+12)","v":{"$error":"#REF!"}},{"$f":"INDIRECT(\"'\"&$R$1&\"'!G\"&'Specialty Codes'!$F44+13)","v":{"$error":"#REF!"}},{"$f":"INDIRECT(\"'\"&$R$1&\"'!G\"&'Specialty Codes'!$F44+14)","v":{"$error":"#REF!"}},{"$f":"INDIRECT(\"'\"&$R$1&\"'!G\"&'Specialty Codes'!$F44+15)","v":{"$error":"#REF!"}},{"$f":"INDIRECT(\"'\"&$R$1&\"'!G\"&'Specialty Codes'!$F44+16)","v":{"$error":"#REF!"}},{"$f":"INDIRECT(\"'\"&$R$1&\"'!G\"&'Specialty Codes'!$F44+17)","v":{"$error":"#REF!"}},{"$f":"IF(INDIRECT(\"'\"&$R$1&\"'!G\"&'Specialty Codes'!$F44+18)=\"\",0,INDIRECT(\"'\"&$R$1&\"'!G\"&'Specialty Codes'!$F44+18))","v":{"$error":"#REF!"}},{"$f":"INDIRECT(\"'\"&$R$1&\"'!G\"&'Specialty Codes'!$F44+20)","v":{"$error":"#REF!"}}]
["Mineral",1.7621981790618801E-3,{"$f":"C19","v":0},0,{"$f":"INDIRECT(\"'\"&$R$1&\"'!G\"&'Specialty Codes'!$F45+3)","v":{"$error":"#REF!"}},{"$f":"INDIRECT(\"'\"&$R$1&\"'!G\"&'Specialty Codes'!$F45+9)","v":{"$error":"#REF!"}},{"$f":"INDIRECT(\"'\"&$R$1&\"'!G\"&'Specialty Codes'!$F45+10)","v":{"$error":"#REF!"}},{"$f":"INDIRECT(\"'\"&$R$1&\"'!G\"&'Specialty Codes'!$F45+11)","v":{"$error":"#REF!"}},{"$f":"INDIRECT(\"'\"&$R$1&\"'!G\"&'Specialty Codes'!$F45+12)","v":{"$error":"#REF!"}},{"$f":"INDIRECT(\"'\"&$R$1&\"'!G\"&'Specialty Codes'!$F45+13)","v":{"$error":"#REF!"}},{"$f":"INDIRECT(\"'\"&$R$1&\"'!G\"&'Specialty Codes'!$F45+14)","v":{"$error":"#REF!"}},{"$f":"INDIRECT(\"'\"&$R$1&\"'!G\"&'Specialty Codes'!$F45+15)","v":{"$error":"#REF!"}},{"$f":"INDIRECT(\"'\"&$R$1&\"'!G\"&'Specialty Codes'!$F45+16)","v":{"$error":"#REF!"}},{"$f":"INDIRECT(\"'\"&$R$1&\"'!G\"&'Specialty Codes'!$F45+17)","v":{"$error":"#REF!"}},{"$f":"IF(INDIRECT(\"'\"&$R$1&\"'!G\"&'Specialty Codes'!$F45+18)=\"\",0,INDIRECT(\"'\"&$R$1&\"'!G\"&'Specialty Codes'!$F45+18))","v":{"$error":"#REF!"}},{"$f":"INDIRECT(\"'\"&$R$1&\"'!G\"&'Specialty Codes'!$F45+20)","v":{"$error":"#REF!"}}]
["Nye",1.6271408186211526E-2,{"$f":"C20","v":0},0,{"$f":"INDIRECT(\"'\"&$R$1&\"'!G\"&'Specialty Codes'!$F46+3)","v":{"$error":"#REF!"}},{"$f":"INDIRECT(\"'\"&$R$1&\"'!G\"&'Specialty Codes'!$F46+9)","v":{"$error":"#REF!"}},{"$f":"INDIRECT(\"'\"&$R$1&\"'!G\"&'Specialty Codes'!$F46+10)","v":{"$error":"#REF!"}},{"$f":"INDIRECT(\"'\"&$R$1&\"'!G\"&'Specialty Codes'!$F46+11)","v":{"$error":"#REF!"}},{"$f":"INDIRECT(\"'\"&$R$1&\"'!G\"&'Specialty Codes'!$F46+12)","v":{"$error":"#REF!"}},{"$f":"INDIRECT(\"'\"&$R$1&\"'!G\"&'Specialty Codes'!$F46+13)","v":{"$error":"#REF!"}},{"$f":"INDIRECT(\"'\"&$R$1&\"'!G\"&'Specialty Codes'!$F46+14)","v":{"$error":"#REF!"}},{"$f":"INDIRECT(\"'\"&$R$1&\"'!G\"&'Specialty Codes'!$F46+15)","v":{"$error":"#REF!"}},{"$f":"INDIRECT(\"'\"&$R$1&\"'!G\"&'Specialty Codes'!$F46+16)","v":{"$error":"#REF!"}},{"$f":"INDIRECT(\"'\"&$R$1&\"'!G\"&'Specialty Codes'!$F46+17)","v":{"$error":"#REF!"}},{"$f":"IF(INDIRECT(\"'\"&$R$1&\"'!G\"&'Specialty Codes'!$F46+18)=\"\",0,INDIRECT(\"'\"&$R$1&\"'!G\"&'Specialty Codes'!$F46+18))","v":{"$error":"#REF!"}},{"$f":"INDIRECT(\"'\"&$R$1&\"'!G\"&'Specialty Codes'!$F46+20)","v":{"$error":"#REF!"}}]
["Pershing",2.0536728778713575E-3,{"$f":"C21","v":0},0,{"$f":"INDIRECT(\"'\"&$R$1&\"'!G\"&'Specialty Codes'!$F47+3)","v":{"$error":"#REF!"}},{"$f":"INDIRECT(\"'\"&$R$1&\"'!G\"&'Specialty Codes'!$F47+9)","v":{"$error":"#REF!"}},{"$f":"INDIRECT(\"'\"&$R$1&\"'!G\"&'Specialty Codes'!$F47+10)","v":{"$error":"#REF!"}},{"$f":"INDIRECT(\"'\"&$R$1&\"'!G\"&'Specialty Codes'!$F47+11)","v":{"$error":"#REF!"}},{"$f":"INDIRECT(\"'\"&$R$1&\"'!G\"&'Specialty Codes'!$F47+12)","v":{"$error":"#REF!"}},{"$f":"INDIRECT(\"'\"&$R$1&\"'!G\"&'Specialty Codes'!$F47+13)","v":{"$error":"#REF!"}},{"$f":"INDIRECT(\"'\"&$R$1&\"'!G\"&'Specialty Codes'!$F47+14)","v":{"$error":"#REF!"}},{"$f":"INDIRECT(\"'\"&$R$1&\"'!G\"&'Specialty Codes'!$F47+15)","v":{"$error":"#REF!"}},{"$f":"INDIRECT(\"'\"&$R$1&\"'!G\"&'Specialty Codes'!$F47+16)","v":{"$error":"#REF!"}},{"$f":"INDIRECT(\"'\"&$R$1&\"'!G\"&'Specialty Codes'!$F47+17)","v":{"$error":"#REF!"}},{"$f":"IF(INDIRECT(\"'\"&$R$1&\"'!G\"&'Specialty Codes'!$F47+18)=\"\",0,INDIRECT(\"'\"&$R$1&\"'!G\"&'Specialty Codes'!$F47+18))","v":{"$error":"#REF!"}},{"$f":"INDIRECT(\"'\"&$R$1&\"'!G\"&'Specialty Codes'!$F47+20)","v":{"$error":"#REF!"}}]
["Storey",3.5117880378190242E-4,{"$f":"C22","v":0},0,{"$f":"INDIRECT(\"'\"&$R$1&\"'!G\"&'Specialty Codes'!$F48+3)","v":{"$error":"#REF!"}},{"$f":"INDIRECT(\"'\"&$R$1&\"'!G\"&'Specialty Codes'!$F48+9)","v":{"$error":"#REF!"}},{"$f":"INDIRECT(\"'\"&$R$1&\"'!G\"&'Specialty Codes'!$F48+10)","v":{"$error":"#REF!"}},{"$f":"INDIRECT(\"'\"&$R$1&\"'!G\"&'Specialty Codes'!$F48+11)","v":{"$error":"#REF!"}},{"$f":"INDIRECT(\"'\"&$R$1&\"'!G\"&'Specialty Codes'!$F48+12)","v":{"$error":"#REF!"}},{"$f":"INDIRECT(\"'\"&$R$1&\"'!G\"&'Specialty Codes'!$F48+13)","v":{"$error":"#REF!"}},{"$f":"INDIRECT(\"'\"&$R$1&\"'!G\"&'Specialty Codes'!$F48+14)","v":{"$error":"#REF!"}},{"$f":"INDIRECT(\"'\"&$R$1&\"'!G\"&'Specialty Codes'!$F48+15)","v":{"$error":"#REF!"}},{"$f":"INDIRECT(\"'\"&$R$1&\"'!G\"&'Specialty Codes'!$F48+16)","v":{"$error":"#REF!"}},{"$f":"INDIRECT(\"'\"&$R$1&\"'!G\"&'Specialty Codes'!$F48+17)","v":{"$error":"#REF!"}},{"$f":"IF(INDIRECT(\"'\"&$R$1&\"'!G\"&'Specialty Codes'!$F48+18)=\"\",0,INDIRECT(\"'\"&$R$1&\"'!G\"&'Specialty Codes'!$F48+18))","v":{"$error":"#REF!"}},{"$f":"INDIRECT(\"'\"&$R$1&\"'!G\"&'Specialty Codes'!$F48+20)","v":{"$error":"#REF!"}}]
["Washoe",0.15718792923913963,{"$f":"C23","v":0},0,{"$f":"INDIRECT(\"'\"&$R$1&\"'!G\"&'Specialty Codes'!$F49+3)","v":{"$error":"#REF!"}},{"$f":"INDIRECT(\"'\"&$R$1&\"'!G\"&'Specialty Codes'!$F49+9)","v":{"$error":"#REF!"}},{"$f":"INDIRECT(\"'\"&$R$1&\"'!G\"&'Specialty Codes'!$F49+10)","v":{"$error":"#REF!"}},{"$f":"INDIRECT(\"'\"&$R$1&\"'!G\"&'Specialty Codes'!$F49+11)","v":{"$error":"#REF!"}},{"$f":"INDIRECT(\"'\"&$R$1&\"'!G\"&'Specialty Codes'!$F49+12)","v":{"$error":"#REF!"}},{"$f":"INDIRECT(\"'\"&$R$1&\"'!G\"&'Specialty Codes'!$F49+13)","v":{"$error":"#REF!"}},{"$f":"INDIRECT(\"'\"&$R$1&\"'!G\"&'Specialty Codes'!$F49+14)","v":{"$error":"#REF!"}},{"$f":"INDIRECT(\"'\"&$R$1&\"'!G\"&'Specialty Codes'!$F49+15)","v":{"$error":"#REF!"}},{"$f":"INDIRECT(\"'\"&$R$1&\"'!G\"&'Specialty Codes'!$F49+16)","v":{"$error":"#REF!"}},{"$f":"INDIRECT(\"'\"&$R$1&\"'!G\"&'Specialty Codes'!$F49+17)","v":{"$error":"#REF!"}},{"$f":"IF(INDIRECT(\"'\"&$R$1&\"'!G\"&'Specialty Codes'!$F49+18)=\"\",0,INDIRECT(\"'\"&$R$1&\"'!G\"&'Specialty Codes'!$F49+18))","v":{"$error":"#REF!"}},{"$f":"INDIRECT(\"'\"&$R$1&\"'!G\"&'Specialty Codes'!$F49+20)","v":{"$error":"#REF!"}}]
["White Pine",3.7035086730410347E-3,{"$f":"C24","v":0},0,{"$f":"INDIRECT(\"'\"&$R$1&\"'!G\"&'Specialty Codes'!$F50+3)","v":{"$error":"#REF!"}},{"$f":"INDIRECT(\"'\"&$R$1&\"'!G\"&'Specialty Codes'!$F50+9)","v":{"$error":"#REF!"}},{"$f":"INDIRECT(\"'\"&$R$1&\"'!G\"&'Specialty Codes'!$F50+10)","v":{"$error":"#REF!"}},{"$f":"INDIRECT(\"'\"&$R$1&\"'!G\"&'Specialty Codes'!$F50+11)","v":{"$error":"#REF!"}},{"$f":"INDIRECT(\"'\"&$R$1&\"'!G\"&'Specialty Codes'!$F50+12)","v":{"$error":"#REF!"}},{"$f":"INDIRECT(\"'\"&$R$1&\"'!G\"&'Specialty Codes'!$F50+13)","v":{"$error":"#REF!"}},{"$f":"INDIRECT(\"'\"&$R$1&\"'!G\"&'Specialty Codes'!$F50+14)","v":{"$error":"#REF!"}},{"$f":"INDIRECT(\"'\"&$R$1&\"'!G\"&'Specialty Codes'!$F50+15)","v":{"$error":"#REF!"}},{"$f":"INDIRECT(\"'\"&$R$1&\"'!G\"&'Specialty Codes'!$F50+16)","v":{"$error":"#REF!"}},{"$f":"INDIRECT(\"'\"&$R$1&\"'!G\"&'Specialty Codes'!$F50+17)","v":{"$error":"#REF!"}},{"$f":"IF(INDIRECT(\"'\"&$R$1&\"'!G\"&'Specialty Codes'!$F50+18)=\"\",0,INDIRECT(\"'\"&$R$1&\"'!G\"&'Specialty Codes'!$F50+18))","v":{"$error":"#REF!"}},{"$f":"INDIRECT(\"'\"&$R$1&\"'!G\"&'Specialty Codes'!$F50+20)","v":{"$error":"#REF!"}}]

{"sheet":"YOY","index":15,"n_rows":358,"n_cols":7,"rows_kept":358,"cut":false,"hidden":true,"merged":[[0,1,0,4]]}
["Network ID:"]
[]
["CARSON CITY COUNTY"]
["Provider/Facility","Code","PY 2021 Providers/Facilities\"","Dropped Providers/\nFacilities","New Providers/\nFacilities","PY 2022 Providers/\nFacilities","YOY\nChange"]
["Primary Care",null,{"$f":"SUM(C6:C10)","v":0},{"$f":"SUM(D6:D10)","v":0},{"$f":"SUM(E6:E10)","v":0},{"$f":"SUM(F6:F10)","v":0},{"$f":"IFERROR(F5/C5-1,\"\")","v":""}]
["General Practice","001",null,null,null,null,{"$f":"IFERROR(F6/C6-1,\"\")","v":""}]
["Family Medicine","002",null,null,null,null,""]
["Internal Medicine","003",null,null,null,null,""]
["Physician Assistant","005",null,null,null,null,""]
["Nurse Practitioner","006",null,null,null,null,""]
["Endrocrinology","012",null,null,null,null,""]
["Infectious Diseases","017",null,null,null,null,""]
["Psychiatry","029",null,null,null,null,""]
["Licensed Clinical Social Workers",102,null,null,null,null,""]
["Psychology",103,null,null,null,null,""]
["Oncology - Medical/Surgery","021",null,null,null,null,""]
["Oncology - Radiation Oncology","022",null,null,null,null,""]
["Pediatrics ","101",null,null,null,null,""]
["Rheumatology","031",null,null,null,null,""]
["General Acute Care Hospital","040",null,null,null,null,""]
["Critical Services - ICU","043",null,null,null,null,""]
["Outpatient Dialysis","044",null,null,null,null,""]
[]
["CHURCHILL COUNTY"]
["Provider/Facility","Code","PY 2021 Providers/Facilities\"","Dropped Providers/\nFacilities","New Providers/\nFacilities","PY 2022 Providers/\nFacilities","YOY\nChange"]
["Primary Care",null,{"$f":"SUM(C27:C31)","v":0},{"$f":"SUM(D27:D31)","v":0},{"$f":"SUM(E27:E31)","v":0},{"$f":"SUM(F27:F31)","v":0},{"$f":"IFERROR(F26/C26-1,\"\")","v":""}]
["General Practice","001",null,null,null,null,{"$f":"IFERROR(F27/C27-1,\"\")","v":""}]
["Family Medicine","002",null,null,null,null,""]
["Internal Medicine","003",null,null,null,null,""]
["Physician Assistant","005",null,null,null,null,""]
["Nurse Practitioner","006",null,null,null,null,""]
["Endrocrinology","012",null,null,null,null,""]
["Infectious Diseases","017",null,null,null,null,""]
["Psychiatry","029",null,null,null,null,""]
["Licensed Clinical Social Workers",102,null,null,null,null,""]
["Psychology",103,null,null,null,null,""]
["Oncology - Medical/Surgery","021",null,null,null,null,""]
["Oncology - Radiation Oncology","022",null,null,null,null,""]
["Pediatrics ","101",null,null,null,null,""]
["Rheumatology","031",null,null,null,null,""]
["General Acute Care Hospital","040",null,null,null,null,""]
["Critical Services - ICU","043",null,null,null,null,""]
["Outpatient Dialysis","044",null,null,null,null,""]
[]
["CLARK COUNTY"]
["Provider/Facility","Code","PY 2021 Providers/Facilities\"","Dropped Providers/\nFacilities","New Providers/\nFacilities","PY 2022 Providers/\nFacilities","YOY\nChange"]
["Primary Care",null,{"$f":"SUM(C48:C52)","v":0},{"$f":"SUM(D48:D52)","v":0},{"$f":"SUM(E48:E52)","v":0},{"$f":"SUM(F48:F52)","v":0},{"$f":"IFERROR(F47/C47-1,\"\")","v":""}]
["General Practice","001",null,null,null,null,{"$f":"IFERROR(F48/C48-1,\"\")","v":""}]
["Family Medicine","002",null,null,null,null,""]
["Internal Medicine","003",null,null,null,null,""]
["Physician Assistant","005",null,null,null,null,""]
["Nurse Practitioner","006",null,null,null,null,""]
["Endrocrinology","012",null,null,null,null,""]
["Infectious Diseases","017",null,null,null,null,""]
["Psychiatry","029",null,null,null,null,""]
["Licensed Clinical Social Workers",102,null,null,null,null,""]
["Psychology",103,null,null,null,null,""]
["Oncology - Medical/Surgery","021",null,null,null,null,""]
["Oncology - Radiation Oncology","022",null,null,null,null,""]
["Pediatrics ","101",null,null,null,null,""]
["Rheumatology","031",null,null,null,null,""]
["General Acute Care Hospital","040",null,null,null,null,""]
["Critical Services - ICU","043",null,null,null,null,""]
["Outpatient Dialysis","044",null,null,null,null,""]
[]
["DOUGLAS COUNTY"]
["Provider/Facility","Code","PY 2021 Providers/Facilities\"","Dropped Providers/\nFacilities","New Providers/\nFacilities","PY 2022 Providers/\nFacilities","YOY\nChange"]
["Primary Care",null,{"$f":"SUM(C69:C73)","v":0},{"$f":"SUM(D69:D73)","v":0},{"$f":"SUM(E69:E73)","v":0},{"$f":"SUM(F69:F73)","v":0},{"$f":"IFERROR(F68/C68-1,\"\")","v":""}]
["General Practice","001",null,null,null,null,{"$f":"IFERROR(F69/C69-1,\"\")","v":""}]
["Family Medicine","002",null,null,null,null,""]
["Internal Medicine","003",null,null,null,null,""]
["Physician Assistant","005",null,null,null,null,""]
["Nurse Practitioner","006",null,null,null,null,""]
["Endrocrinology","012",null,null,null,null,""]
["Infectious Diseases","017",null,null,null,null,""]
["Psychiatry","029",null,null,null,null,""]
["Licensed Clinical Social Workers",102,null,null,null,null,""]
["Psychology",103,null,null,null,null,""]
["Oncology - Medical/Surgery","021",null,null,null,null,""]
["Oncology - Radiation Oncology","022",null,null,null,null,""]
["Pediatrics ","101",null,null,null,null,""]
["Rheumatology","031",null,null,null,null,""]
["General Acute Care Hospital","040",null,null,null,null,""]
["Critical Services - ICU","043",null,null,null,null,""]
["Outpatient Dialysis","044",null,null,null,null,""]
[]
["ELKO COUNTY"]
["Provider/Facility","Code","PY 2021 Providers/Facilities\"","Dropped Providers/\nFacilities","New Providers/\nFacilities","PY 2022 Providers/\nFacilities","YOY\nChange"]
["Primary Care",null,{"$f":"SUM(C90:C94)","v":0},{"$f":"SUM(D90:D94)","v":0},{"$f":"SUM(E90:E94)","v":0},{"$f":"SUM(F90:F94)","v":0},{"$f":"IFERROR(F89/C89-1,\"\")","v":""}]
["General Practice","001",null,null,null,null,{"$f":"IFERROR(F90/C90-1,\"\")","v":""}]
["Family Medicine","002",null,null,null,null,""]
["Internal Medicine","003",null,null,null,null,""]
["Physician Assistant","005",null,null,null,null,""]
["Nurse Practitioner","006",null,null,null,null,""]
["Endrocrinology","012",null,null,null,null,""]
["Infectious Diseases","017",null,null,null,null,""]
["Psychiatry","029",null,null,null,null,""]
["Licensed Clinical Social Workers",102,null,null,null,null,""]
["Psychology",103,null,null,null,null,""]
["Oncology - Medical/Surgery","021",null,null,null,null,""]
["Oncology - Radiation Oncology","022",null,null,null,null,""]
["Pediatrics ","101",null,null,null,null,""]
["Rheumatology","031",null,null,null,null,""]
["General Acute Care Hospital","040",null,null,null,null,""]
["Critical Services - ICU","043",null,null,null,null,""]
["Outpatient Dialysis","044",null,null,null,null,""]
[]
["ESMERALDA COUNTY"]
["Provider/Facility","Code","PY 2021 Providers/Facilities\"","Dropped Providers/\nFacilities","New Providers/\nFacilities","PY 2022 Providers/\nFacilities","YOY\nChange"]
["Primary Care",null,{"$f":"SUM(C111:C115)","v":0},{"$f":"SUM(D111:D115)","v":0},{"$f":"SUM(E111:E115)","v":0},{"$f":"SUM(F111:F115)","v":0},{"$f":"IFERROR(F110/C110-1,\"\")","v":""}]
["General Practice","001",null,null,null,null,{"$f":"IFERROR(F111/C111-1,\"\")","v":""}]
["Family Medicine","002",null,null,null,null,""]
["Internal Medicine","003",null,null,null,null,""]
["Physician Assistant","005",null,null,null,null,""]
["Nurse Practitioner","006",null,null,null,null,""]
["Endrocrinology","012",null,null,null,null,""]
["Infectious Diseases","017",null,null,null,null,""]
["Psychiatry","029",null,null,null,null,""]
["Licensed Clinical Social Workers",102,null,null,null,null,""]
["Psychology",103,null,null,null,null,""]
["Oncology - Medical/Surgery","021",null,null,null,null,""]
["Oncology - Radiation Oncology","022",null,null,null,null,""]
["Pediatrics ","101",null,null,null,null,""]
["Rheumatology","031",null,null,null,null,""]
["General Acute Care Hospital","040",null,null,null,null,""]
["Critical Services - ICU","043",null,null,null,null,""]
["Outpatient Dialysis","044",null,null,null,null,""]
[]
["EUREKA COUNTY"]
["Provider/Facility","Code","PY 2021 Providers/Facilities\"","Dropped Providers/\nFacilities","New Providers/\nFacilities","PY 2022 Providers/\nFacilities","YOY\nChange"]
["Primary Care",null,{"$f":"SUM(C132:C136)","v":0},{"$f":"SUM(D132:D136)","v":0},{"$f":"SUM(E132:E136)","v":0},{"$f":"SUM(F132:F136)","v":0},{"$f":"IFERROR(F131/C131-1,\"\")","v":""}]
["General Practice","001",null,null,null,null,{"$f":"IFERROR(F132/C132-1,\"\")","v":""}]
["Family Medicine","002",null,null,null,null,""]
["Internal Medicine","003",null,null,null,null,""]
["Physician Assistant","005",null,null,null,null,""]
["Nurse Practitioner","006",null,null,null,null,""]
["Endrocrinology","012",null,null,null,null,""]
["Infectious Diseases","017",null,null,null,null,""]
["Psychiatry","029",null,null,null,null,""]
["Licensed Clinical Social Workers",102,null,null,null,null,""]
["Psychology",103,null,null,null,null,""]
["Oncology - Medical/Surgery","021",null,null,null,null,""]
["Oncology - Radiation Oncology","022",null,null,null,null,""]
["Pediatrics ","101",null,null,null,null,""]
["Rheumatology","031",null,null,null,null,""]
["General Acute Care Hospital","040",null,null,null,null,""]
["Critical Services - ICU","043",null,null,null,null,""]
["Outpatient Dialysis","044",null,null,null,null,""]
[]
["HUMBOLDT COUNTY"]
["Provider/Facility","Code","PY 2021 Providers/Facilities\"","Dropped Providers/\nFacilities","New Providers/\nFacilities","PY 2022 Providers/\nFacilities","YOY\nChange"]
["Primary Care",null,{"$f":"SUM(C153:C157)","v":0},{"$f":"SUM(D153:D157)","v":0},{"$f":"SUM(E153:E157)","v":0},{"$f":"SUM(F153:F157)","v":0},{"$f":"IFERROR(F152/C152-1,\"\")","v":""}]
["General Practice","001",null,null,null,null,{"$f":"IFERROR(F153/C153-1,\"\")","v":""}]
["Family Medicine","002",null,null,null,null,""]
["Internal Medicine","003",null,null,null,null,""]
["Physician Assistant","005",null,null,null,null,""]
["Nurse Practitioner","006",null,null,null,null,""]
["Endrocrinology","012",null,null,null,null,""]
["Infectious Diseases","017",null,null,null,null,""]
["Psychiatry","029",null,null,null,null,""]
["Licensed Clinical Social Workers",102,null,null,null,null,""]
["Psychology",103,null,null,null,null,""]
["Oncology - Medical/Surgery","021",null,null,null,null,""]
["Oncology - Radiation Oncology","022",null,null,null,null,""]
["Pediatrics ","101",null,null,null,null,""]
["Rheumatology","031",null,null,null,null,""]
["General Acute Care Hospital","040",null,null,null,null,""]
["Critical Services - ICU","043",null,null,null,null,""]
["Outpatient Dialysis","044",null,null,null,null,""]
[]
["LANDER COUNTY"]
["Provider/Facility","Code","PY 2021 Providers/Facilities\"","Dropped Providers/\nFacilities","New Providers/\nFacilities","PY 2022 Providers/\nFacilities","YOY\nChange"]
["Primary Care",null,{"$f":"SUM(C174:C178)","v":0},{"$f":"SUM(D174:D178)","v":0},{"$f":"SUM(E174:E178)","v":0},{"$f":"SUM(F174:F178)","v":0},{"$f":"IFERROR(F173/C173-1,\"\")","v":""}]
["General Practice","001",null,null,null,null,{"$f":"IFERROR(F174/C174-1,\"\")","v":""}]
["Family Medicine","002",null,null,null,null,""]
["Internal Medicine","003",null,null,null,null,""]
["Physician Assistant","005",null,null,null,null,""]
["Nurse Practitioner","006",null,null,null,null,""]
["Endrocrinology","012",null,null,null,null,""]
["Infectious Diseases","017",null,null,null,null,""]
["Psychiatry","029",null,null,null,null,""]
["Licensed Clinical Social Workers",102,null,null,null,null,""]
["Psychology",103,null,null,null,null,""]
["Oncology - Medical/Surgery","021",null,null,null,null,""]
["Oncology - Radiation Oncology","022",null,null,null,null,""]
["Pediatrics ","101",null,null,null,null,""]
["Rheumatology","031",null,null,null,null,""]
["General Acute Care Hospital","040",null,null,null,null,""]
["Critical Services - ICU","043",null,null,null,null,""]
["Outpatient Dialysis","044",null,null,null,null,""]
[]
["LINCOLN COUNTY"]
["Provider/Facility","Code","PY 2021 Providers/Facilities\"","Dropped Providers/\nFacilities","New Providers/\nFacilities","PY 2022 Providers/\nFacilities","YOY\nChange"]
["Primary Care",null,{"$f":"SUM(C195:C199)","v":0},{"$f":"SUM(D195:D199)","v":0},{"$f":"SUM(E195:E199)","v":0},{"$f":"SUM(F195:F199)","v":0},{"$f":"IFERROR(F194/C194-1,\"\")","v":""}]
["General Practice","001",null,null,null,null,{"$f":"IFERROR(F195/C195-1,\"\")","v":""}]
["Family Medicine","002",null,null,null,null,""]
["Internal Medicine","003",null,null,null,null,""]
["Physician Assistant","005",null,null,null,null,""]
["Nurse Practitioner","006",null,null,null,null,""]
["Endrocrinology","012",null,null,null,null,""]
["Infectious Diseases","017",null,null,null,null,""]
["Psychiatry","029",null,null,null,null,""]
["Licensed Clinical Social Workers",102,null,null,null,null,""]
["Psychology",103,null,null,null,null,""]
["Oncology - Medical/Surgery","021",null,null,null,null,""]
["Oncology - Radiation Oncology","022",null,null,null,null,""]
["Pediatrics ","101",null,null,null,null,""]
["Rheumatology","031",null,null,null,null,""]
["General Acute Care Hospital","040",null,null,null,null,""]
["Critical Services - ICU","043",null,null,null,null,""]
["Outpatient Dialysis","044",null,null,null,null,""]
[]
["LYON COUNTY"]
["Provider/Facility","Code","PY 2021 Providers/Facilities\"","Dropped Providers/\nFacilities","New Providers/\nFacilities","PY 2022 Providers/\nFacilities","YOY\nChange"]
["Primary Care",null,{"$f":"SUM(C216:C220)","v":0},{"$f":"SUM(D216:D220)","v":0},{"$f":"SUM(E216:E220)","v":0},{"$f":"SUM(F216:F220)","v":0},{"$f":"IFERROR(F215/C215-1,\"\")","v":""}]
["General Practice","001",null,null,null,null,{"$f":"IFERROR(F216/C216-1,\"\")","v":""}]
["Family Medicine","002",null,null,null,null,""]
["Internal Medicine","003",null,null,null,null,""]
["Physician Assistant","005",null,null,null,null,""]
["Nurse Practitioner","006",null,null,null,null,""]
["Endrocrinology","012",null,null,null,null,""]
["Infectious Diseases","017",null,null,null,null,""]
["Psychiatry","029",null,null,null,null,""]
["Licensed Clinical Social Workers",102,null,null,null,null,""]
["Psychology",103,null,null,null,null,""]
["Oncology - Medical/Surgery","021",null,null,null,null,""]
["Oncology - Radiation Oncology","022",null,null,null,null,""]
["Pediatrics ","101",null,null,null,null,""]
["Rheumatology","031",null,null,null,null,""]
["General Acute Care Hospital","040",null,null,null,null,""]
["Critical Services - ICU","043",null,null,null,null,""]
["Outpatient Dialysis","044",null,null,null,null,""]
[]
["MINERAL COUNTY"]
["Provider/Facility","Code","PY 2021 Providers/Facilities\"","Dropped Providers/\nFacilities","New Providers/\nFacilities","PY 2022 Providers/\nFacilities","YOY\nChange"]
["Primary Care",null,{"$f":"SUM(C237:C241)","v":0},{"$f":"SUM(D237:D241)","v":0},{"$f":"SUM(E237:E241)","v":0},{"$f":"SUM(F237:F241)","v":0},{"$f":"IFERROR(F236/C236-1,\"\")","v":""}]
["General Practice","001",null,null,null,null,{"$f":"IFERROR(F237/C237-1,\"\")","v":""}]
["Family Medicine","002",null,null,null,null,""]
["Internal Medicine","003",null,null,null,null,""]
["Physician Assistant","005",null,null,null,null,""]
["Nurse Practitioner","006",null,null,null,null,""]
["Endrocrinology","012",null,null,null,null,""]
["Infectious Diseases","017",null,null,null,null,""]
["Psychiatry","029",null,null,null,null,""]
["Licensed Clinical Social Workers",102,null,null,null,null,""]
["Psychology",103,null,null,null,null,""]
["Oncology - Medical/Surgery","021",null,null,null,null,""]
["Oncology - Radiation Oncology","022",null,null,null,null,""]
["Pediatrics ","101",null,null,null,null,""]
["Rheumatology","031",null,null,null,null,""]
["General Acute Care Hospital","040",null,null,null,null,""]
["Critical Services - ICU","043",null,null,null,null,""]
["Outpatient Dialysis","044",null,null,null,null,""]
[]
["NYE COUNTY"]
["Provider/Facility","Code","PY 2021 Providers/Facilities\"","Dropped Providers/\nFacilities","New Providers/\nFacilities","PY 2022 Providers/\nFacilities","YOY\nChange"]
["Primary Care",null,{"$f":"SUM(C258:C262)","v":0},{"$f":"SUM(D258:D262)","v":0},{"$f":"SUM(E258:E262)","v":0},{"$f":"SUM(F258:F262)","v":0},{"$f":"IFERROR(F257/C257-1,\"\")","v":""}]
["General Practice","001",null,null,null,null,{"$f":"IFERROR(F258/C258-1,\"\")","v":""}]
["Family Medicine","002",null,null,null,null,""]
["Internal Medicine","003",null,null,null,null,""]
["Physician Assistant","005",null,null,null,null,""]
["Nurse Practitioner","006",null,null,null,null,""]
["Endrocrinology","012",null,null,null,null,""]
["Infectious Diseases","017",null,null,null,null,""]
["Psychiatry","029",null,null,null,null,""]
["Licensed Clinical Social Workers",102,null,null,null,null,""]
["Psychology",103,null,null,null,null,""]
["Oncology - Medical/Surgery","021",null,null,null,null,""]
["Oncology - Radiation Oncology","022",null,null,null,null,""]
["Pediatrics ","101",null,null,null,null,""]
["Rheumatology","031",null,null,null,null,""]
["General Acute Care Hospital","040",null,null,null,null,""]
["Critical Services - ICU","043",null,null,null,null,""]
["Outpatient Dialysis","044",null,null,null,null,""]
[]
["PERSHING COUNTY"]
["Provider/Facility","Code","PY 2021 Providers/Facilities\"","Dropped Providers/\nFacilities","New Providers/\nFacilities","PY 2022 Providers/\nFacilities","YOY\nChange"]
["Primary Care",null,{"$f":"SUM(C279:C283)","v":0},{"$f":"SUM(D279:D283)","v":0},{"$f":"SUM(E279:E283)","v":0},{"$f":"SUM(F279:F283)","v":0},{"$f":"IFERROR(F278/C278-1,\"\")","v":""}]
["General Practice","001",null,null,null,null,{"$f":"IFERROR(F279/C279-1,\"\")","v":""}]
["Family Medicine","002",null,null,null,null,""]
["Internal Medicine","003",null,null,null,null,""]
["Physician Assistant","005",null,null,null,null,""]
["Nurse Practitioner","006",null,null,null,null,""]
["Endrocrinology","012",null,null,null,null,""]
["Infectious Diseases","017",null,null,null,null,""]
["Psychiatry","029",null,null,null,null,""]
["Licensed Clinical Social Workers",102,null,null,null,null,""]
["Psychology",103,null,null,null,null,""]
["Oncology - Medical/Surgery","021",null,null,null,null,""]
["Oncology - Radiation Oncology","022",null,null,null,null,""]
["Pediatrics ","101",null,null,null,null,""]
["Rheumatology","031",null,null,null,null,""]
["General Acute Care Hospital","040",null,null,null,null,""]
["Critical Services - ICU","043",null,null,null,null,""]
["Outpatient Dialysis","044",null,null,null,null,""]
[]
["STOREY COUNTY"]
["Provider/Facility","Code","PY 2021 Providers/Facilities\"","Dropped Providers/\nFacilities","New Providers/\nFacilities","PY 2022 Providers/\nFacilities","YOY\nChange"]
["Primary Care",null,{"$f":"SUM(C300:C304)","v":0},{"$f":"SUM(D300:D304)","v":0},{"$f":"SUM(E300:E304)","v":0},{"$f":"SUM(F300:F304)","v":0},{"$f":"IFERROR(F299/C299-1,\"\")","v":""}]
["General Practice","001",null,null,null,null,{"$f":"IFERROR(F300/C300-1,\"\")","v":""}]
["Family Medicine","002",null,null,null,null,""]
["Internal Medicine","003",null,null,null,null,""]
["Physician Assistant","005",null,null,null,null,""]
["Nurse Practitioner","006",null,null,null,null,""]
["Endrocrinology","012",null,null,null,null,""]
["Infectious Diseases","017",null,null,null,null,""]
["Psychiatry","029",null,null,null,null,""]
["Licensed Clinical Social Workers",102,null,null,null,null,""]
["Psychology",103,null,null,null,null,""]
["Oncology - Medical/Surgery","021",null,null,null,null,""]
["Oncology - Radiation Oncology","022",null,null,null,null,""]
["Pediatrics ","101",null,null,null,null,""]
["Rheumatology","031",null,null,null,null,""]
["General Acute Care Hospital","040",null,null,null,null,""]
["Critical Services - ICU","043",null,null,null,null,""]
["Outpatient Dialysis","044",null,null,null,null,""]
[]
["WASHOE COUNTY"]
["Provider/Facility","Code","PY 2021 Providers/Facilities\"","Dropped Providers/\nFacilities","New Providers/\nFacilities","PY 2022 Providers/\nFacilities","YOY\nChange"]
["Primary Care",null,{"$f":"SUM(C321:C325)","v":0},{"$f":"SUM(D321:D325)","v":0},{"$f":"SUM(E321:E325)","v":0},{"$f":"SUM(F321:F325)","v":0},{"$f":"IFERROR(F320/C320-1,\"\")","v":""}]
["General Practice","001",null,null,null,null,{"$f":"IFERROR(F321/C321-1,\"\")","v":""}]
["Family Medicine","002",null,null,null,null,""]
["Internal Medicine","003",null,null,null,null,""]
["Physician Assistant","005",null,null,null,null,""]
["Nurse Practitioner","006",null,null,null,null,""]
["Endrocrinology","012",null,null,null,null,""]
["Infectious Diseases","017",null,null,null,null,""]
["Psychiatry","029",null,null,null,null,""]
["Licensed Clinical Social Workers",102,null,null,null,null,""]
["Psychology",103,null,null,null,null,""]
["Oncology - Medical/Surgery","021",null,null,null,null,""]
["Oncology - Radiation Oncology","022",null,null,null,null,""]
["Pediatrics ","101",null,null,null,null,""]
["Rheumatology","031",null,null,null,null,""]
["General Acute Care Hospital","040",null,null,null,null,""]
["Critical Services - ICU","043",null,null,null,null,""]
["Outpatient Dialysis","044",null,null,null,null,""]
[]
["WHITE PINE COUNTY"]
["Provider/Facility","Code","PY 2021 Providers/Facilities\"","Dropped Providers/\nFacilities","New Providers/\nFacilities","PY 2022 Providers/\nFacilities","YOY\nChange"]
["Primary Care",null,{"$f":"SUM(C342:C346)","v":0},{"$f":"SUM(D342:D346)","v":0},{"$f":"SUM(E342:E346)","v":0},{"$f":"SUM(F342:F346)","v":0},{"$f":"IFERROR(F341/C341-1,\"\")","v":""}]
["General Practice","001",null,null,null,null,{"$f":"IFERROR(F342/C342-1,\"\")","v":""}]
["Family Medicine","002",null,null,null,null,""]
["Internal Medicine","003",null,null,null,null,""]
["Physician Assistant","005",null,null,null,null,""]
["Nurse Practitioner","006",null,null,null,null,""]
["Endrocrinology","012",null,null,null,null,""]
["Infectious Diseases","017",null,null,null,null,""]
["Psychiatry","029",null,null,null,null,""]
["Licensed Clinical Social Workers",102,null,null,null,null,""]
["Psychology",103,null,null,null,null,""]
["Oncology - Medical/Surgery","021",null,null,null,null,""]
["Oncology - Radiation Oncology","022",null,null,null,null,""]
["Pediatrics ","101",null,null,null,null,""]
["Rheumatology","031",null,null,null,null,""]
["General Acute Care Hospital","040",null,null,null,null,""]
["Critical Services - ICU","043",null,null,null,null,""]
["Outpatient Dialysis","044",null,null,null,null,""]